BEGIN:VCALENDAR
VERSION:2.0
PRODID:-//Bhakti Marga Romania - ECPv6.15.20//NONSGML v1.0//EN
CALSCALE:GREGORIAN
METHOD:PUBLISH
X-WR-CALNAME:Bhakti Marga Romania
X-ORIGINAL-URL:https://bhaktimarga.ro
X-WR-CALDESC:Evenimente pentru Bhakti Marga Romania
REFRESH-INTERVAL;VALUE=DURATION:PT1H
X-Robots-Tag:noindex
X-PUBLISHED-TTL:PT1H
BEGIN:VTIMEZONE
TZID:Europe/Bucharest
BEGIN:DAYLIGHT
TZOFFSETFROM:+0200
TZOFFSETTO:+0300
TZNAME:EEST
DTSTART:20240331T010000
END:DAYLIGHT
BEGIN:STANDARD
TZOFFSETFROM:+0300
TZOFFSETTO:+0200
TZNAME:EET
DTSTART:20241027T010000
END:STANDARD
BEGIN:DAYLIGHT
TZOFFSETFROM:+0200
TZOFFSETTO:+0300
TZNAME:EEST
DTSTART:20250330T010000
END:DAYLIGHT
BEGIN:STANDARD
TZOFFSETFROM:+0300
TZOFFSETTO:+0200
TZNAME:EET
DTSTART:20251026T010000
END:STANDARD
BEGIN:DAYLIGHT
TZOFFSETFROM:+0200
TZOFFSETTO:+0300
TZNAME:EEST
DTSTART:20260329T010000
END:DAYLIGHT
BEGIN:STANDARD
TZOFFSETFROM:+0300
TZOFFSETTO:+0200
TZNAME:EET
DTSTART:20261025T010000
END:STANDARD
BEGIN:DAYLIGHT
TZOFFSETFROM:+0200
TZOFFSETTO:+0300
TZNAME:EEST
DTSTART:20270328T010000
END:DAYLIGHT
BEGIN:STANDARD
TZOFFSETFROM:+0300
TZOFFSETTO:+0200
TZNAME:EET
DTSTART:20271031T010000
END:STANDARD
END:VTIMEZONE
BEGIN:VEVENT
DTSTART;TZID=Europe/Bucharest:20260227T190000
DTEND;TZID=Europe/Bucharest:20260227T203000
DTSTAMP:20260421T145923
CREATED:20260221T100803Z
LAST-MODIFIED:20260227T101944Z
UID:10001523-1772218800-1772224200@bhaktimarga.ro
SUMMARY:Mintea în serviciul sufletului
DESCRIPTION:Mintea ne poate fi cel mai bun prieten sau cel mai mare sabotor. În acest curs introductiv\, bazat pe învățăturile lui Paramahamsa Vishwananda și pe Bhagavad Gītā\, vom înțelege simplu cum este structurată mintea\, ce este dincolo de ea (ātma – adevăratul nostru Sine) și cum putem transforma gândurile\, emoțiile și ego-ul în instrumente care ne susțin scopul spiritual. Cursul este potrivit pentru începători și oferă explicații clare și practici simple pentru a liniști mintea și a ne apropia de Dumnezeu prin iubire și devoțiune.
URL:https://bhaktimarga.ro/eveniment/mintea-in-serviciul-sufletului/
CATEGORIES:Cunoaștere
ATTACH;FMTTYPE=image/jpeg:https://bhaktimarga.ro/wp-content/uploads/2026/02/photo_2026-02-19_16-50-49.jpg
ORGANIZER;CN="Vrindavana Ishvara Dasi":MAILTO:vrindavana@bhaktimarga.ro
LOCATION:https://us06web.zoom.us/j/86790330665
END:VEVENT
BEGIN:VEVENT
DTSTART;TZID=Europe/Bucharest:20251107T200000
DTEND;TZID=Europe/Bucharest:20251107T210000
DTSTAMP:20260421T145923
CREATED:20251101T073304Z
LAST-MODIFIED:20251101T074937Z
UID:10001484-1762545600-1762549200@bhaktimarga.ro
SUMMARY:Puterea mantrei în viața de zi cu zi
DESCRIPTION:Descoperă energia transformatoare a mantrei \n\nSri Vitthala Giridhari Parabrahmane Namaha \n\nCuvintele rostite cu devoțiune au o putere profundă. Ele pot deschide inima\, pot liniști mintea și pot transforma întreaga noastră percepție asupra vieții. Mantrele sunt vibrații sacre care ne reconectează cu sursa divină a ființei și trezesc în noi pacea\, bucuria și claritatea interioară. \nÎn această sesiune specială vei descoperi: \n✨ Ce este o mantră și cum acționează energia ei subtilă asupra conștiinței; \n✨ Cum practica recitării mantrei poate aduce echilibru\, claritate și inspirație în viața de zi cu zi; \n✨ Modalități simple de a integra mantra în activitățile tale zilnice\, pentru a transforma fiecare moment într-un act de prezență și devoțiune. \n  \nParamahamsa Vishwananda este Maestrul care a oferit această mantră lumii\, pentru a ne susține să descoperim iubirea divină și să o trăim în viața de zi cu zi. \nParamahamsa Vishwananda va veni la București pe 6 decembrie\, în cadrul AtmaFest 2025 (apasă pe acest link pentru mai multe informații).\nVino să-L cunoști și să experimentezi direct prezența și înțelepciunea Sa! \n\nFiecare participant va primi linkul de conectare pe Zoom prin e-mail\, după înscriere.\nParticiparea este gratuită. Tot ce ai nevoie este deschiderea inimii și dorința sinceră de a evolua spiritual.
URL:https://bhaktimarga.ro/eveniment/puterea-mantrei-in-viata-de-zi-cu-zi/
CATEGORIES:Cunoaștere
ATTACH;FMTTYPE=image/jpeg:https://bhaktimarga.ro/wp-content/uploads/2025/11/Mantra-Curs.jpg
ORGANIZER;CN="Vrindavana Ishvara Dasi":MAILTO:vrindavana@bhaktimarga.ro
LOCATION:https://bhaktimarga.ro/eveniment/puterea-mantrei-in-viata-de-zi-cu-zi/
END:VEVENT
BEGIN:VEVENT
DTSTART;TZID=Europe/Bucharest:20250912T200000
DTEND;TZID=Europe/Bucharest:20250912T213000
DTSTAMP:20260421T145923
CREATED:20250717T112330Z
LAST-MODIFIED:20250717T113437Z
UID:10001353-1757707200-1757712600@bhaktimarga.ro
SUMMARY:Curs de devoți - Iulie - Septembrie 2025
DESCRIPTION:Te invităm să participi la un curs gratuit în 8 sesiuni\, dedicat celor care vor să pătrundă în înțelepciunea vedică și să descopere fundamentele hinduismului și ale căii Hari Bhakta Sampradaya\, calea iubitorilor de Dumnezeu. \nCursul este deschis atât celor care doresc să devină devoți\, cât și celor interesați să înțeleagă mai profund această tradiție spirituală unică\, cu rădăcini milenare. \n🔥 Cursul este GRATUIT \nVom explora împreună concepte esențiale din tradiția hindusă\, filozofie\, scripturi\, calea bhakti și rolul spiritual al Maestrului. Este o oportunitate de a-ți aprofunda înțelegerea despre tine și despre Divinitate\, alături de o comunitate dedicată. \n👉 Pentru informații și noutăți despre curs\, te poți alătura grupului de telegram: \nKnowledge Bhakti Marga Romania (https://t.me/+c0BK9CdsF5xmNzc0) \nTe așteptăm cu bucurie să începi această călătorie spre adevăr și iubire divină!
URL:https://bhaktimarga.ro/eveniment/curs-de-devoti-iulie-septembrie-2025/2025-09-12/
CATEGORIES:Cunoaștere
ATTACH;FMTTYPE=image/png:https://bhaktimarga.ro/wp-content/uploads/2025/07/curs-de-devoti.png
ORGANIZER;CN="Vrindavana Ishvara Dasi":MAILTO:vrindavana@bhaktimarga.ro
LOCATION:https://us06web.zoom.us/j/82613440835
END:VEVENT
BEGIN:VEVENT
DTSTART;TZID=Europe/Bucharest:20250905T200000
DTEND;TZID=Europe/Bucharest:20250905T213000
DTSTAMP:20260421T145923
CREATED:20250717T112330Z
LAST-MODIFIED:20250717T113437Z
UID:10001352-1757102400-1757107800@bhaktimarga.ro
SUMMARY:Curs de devoți - Iulie - Septembrie 2025
DESCRIPTION:Te invităm să participi la un curs gratuit în 8 sesiuni\, dedicat celor care vor să pătrundă în înțelepciunea vedică și să descopere fundamentele hinduismului și ale căii Hari Bhakta Sampradaya\, calea iubitorilor de Dumnezeu. \nCursul este deschis atât celor care doresc să devină devoți\, cât și celor interesați să înțeleagă mai profund această tradiție spirituală unică\, cu rădăcini milenare. \n🔥 Cursul este GRATUIT \nVom explora împreună concepte esențiale din tradiția hindusă\, filozofie\, scripturi\, calea bhakti și rolul spiritual al Maestrului. Este o oportunitate de a-ți aprofunda înțelegerea despre tine și despre Divinitate\, alături de o comunitate dedicată. \n👉 Pentru informații și noutăți despre curs\, te poți alătura grupului de telegram: \nKnowledge Bhakti Marga Romania (https://t.me/+c0BK9CdsF5xmNzc0) \nTe așteptăm cu bucurie să începi această călătorie spre adevăr și iubire divină!
URL:https://bhaktimarga.ro/eveniment/curs-de-devoti-iulie-septembrie-2025/2025-09-05/
CATEGORIES:Cunoaștere
ATTACH;FMTTYPE=image/png:https://bhaktimarga.ro/wp-content/uploads/2025/07/curs-de-devoti.png
ORGANIZER;CN="Vrindavana Ishvara Dasi":MAILTO:vrindavana@bhaktimarga.ro
LOCATION:https://us06web.zoom.us/j/82613440835
END:VEVENT
BEGIN:VEVENT
DTSTART;TZID=Europe/Bucharest:20250829T200000
DTEND;TZID=Europe/Bucharest:20250829T213000
DTSTAMP:20260421T145923
CREATED:20250717T112330Z
LAST-MODIFIED:20250717T113437Z
UID:10001351-1756497600-1756503000@bhaktimarga.ro
SUMMARY:Curs de devoți - Iulie - Septembrie 2025
DESCRIPTION:Te invităm să participi la un curs gratuit în 8 sesiuni\, dedicat celor care vor să pătrundă în înțelepciunea vedică și să descopere fundamentele hinduismului și ale căii Hari Bhakta Sampradaya\, calea iubitorilor de Dumnezeu. \nCursul este deschis atât celor care doresc să devină devoți\, cât și celor interesați să înțeleagă mai profund această tradiție spirituală unică\, cu rădăcini milenare. \n🔥 Cursul este GRATUIT \nVom explora împreună concepte esențiale din tradiția hindusă\, filozofie\, scripturi\, calea bhakti și rolul spiritual al Maestrului. Este o oportunitate de a-ți aprofunda înțelegerea despre tine și despre Divinitate\, alături de o comunitate dedicată. \n👉 Pentru informații și noutăți despre curs\, te poți alătura grupului de telegram: \nKnowledge Bhakti Marga Romania (https://t.me/+c0BK9CdsF5xmNzc0) \nTe așteptăm cu bucurie să începi această călătorie spre adevăr și iubire divină!
URL:https://bhaktimarga.ro/eveniment/curs-de-devoti-iulie-septembrie-2025/2025-08-29/
CATEGORIES:Cunoaștere
ATTACH;FMTTYPE=image/png:https://bhaktimarga.ro/wp-content/uploads/2025/07/curs-de-devoti.png
ORGANIZER;CN="Vrindavana Ishvara Dasi":MAILTO:vrindavana@bhaktimarga.ro
LOCATION:https://us06web.zoom.us/j/82613440835
END:VEVENT
BEGIN:VEVENT
DTSTART;TZID=Europe/Bucharest:20250822T200000
DTEND;TZID=Europe/Bucharest:20250822T213000
DTSTAMP:20260421T145923
CREATED:20250717T112330Z
LAST-MODIFIED:20250717T113437Z
UID:10001350-1755892800-1755898200@bhaktimarga.ro
SUMMARY:Curs de devoți - Iulie - Septembrie 2025
DESCRIPTION:Te invităm să participi la un curs gratuit în 8 sesiuni\, dedicat celor care vor să pătrundă în înțelepciunea vedică și să descopere fundamentele hinduismului și ale căii Hari Bhakta Sampradaya\, calea iubitorilor de Dumnezeu. \nCursul este deschis atât celor care doresc să devină devoți\, cât și celor interesați să înțeleagă mai profund această tradiție spirituală unică\, cu rădăcini milenare. \n🔥 Cursul este GRATUIT \nVom explora împreună concepte esențiale din tradiția hindusă\, filozofie\, scripturi\, calea bhakti și rolul spiritual al Maestrului. Este o oportunitate de a-ți aprofunda înțelegerea despre tine și despre Divinitate\, alături de o comunitate dedicată. \n👉 Pentru informații și noutăți despre curs\, te poți alătura grupului de telegram: \nKnowledge Bhakti Marga Romania (https://t.me/+c0BK9CdsF5xmNzc0) \nTe așteptăm cu bucurie să începi această călătorie spre adevăr și iubire divină!
URL:https://bhaktimarga.ro/eveniment/curs-de-devoti-iulie-septembrie-2025/2025-08-22/
CATEGORIES:Cunoaștere
ATTACH;FMTTYPE=image/png:https://bhaktimarga.ro/wp-content/uploads/2025/07/curs-de-devoti.png
ORGANIZER;CN="Vrindavana Ishvara Dasi":MAILTO:vrindavana@bhaktimarga.ro
LOCATION:https://us06web.zoom.us/j/82613440835
END:VEVENT
BEGIN:VEVENT
DTSTART;TZID=Europe/Bucharest:20250815T200000
DTEND;TZID=Europe/Bucharest:20250815T213000
DTSTAMP:20260421T145923
CREATED:20250717T112330Z
LAST-MODIFIED:20250717T113437Z
UID:10001349-1755288000-1755293400@bhaktimarga.ro
SUMMARY:Curs de devoți - Iulie - Septembrie 2025
DESCRIPTION:Te invităm să participi la un curs gratuit în 8 sesiuni\, dedicat celor care vor să pătrundă în înțelepciunea vedică și să descopere fundamentele hinduismului și ale căii Hari Bhakta Sampradaya\, calea iubitorilor de Dumnezeu. \nCursul este deschis atât celor care doresc să devină devoți\, cât și celor interesați să înțeleagă mai profund această tradiție spirituală unică\, cu rădăcini milenare. \n🔥 Cursul este GRATUIT \nVom explora împreună concepte esențiale din tradiția hindusă\, filozofie\, scripturi\, calea bhakti și rolul spiritual al Maestrului. Este o oportunitate de a-ți aprofunda înțelegerea despre tine și despre Divinitate\, alături de o comunitate dedicată. \n👉 Pentru informații și noutăți despre curs\, te poți alătura grupului de telegram: \nKnowledge Bhakti Marga Romania (https://t.me/+c0BK9CdsF5xmNzc0) \nTe așteptăm cu bucurie să începi această călătorie spre adevăr și iubire divină!
URL:https://bhaktimarga.ro/eveniment/curs-de-devoti-iulie-septembrie-2025/2025-08-15/
CATEGORIES:Cunoaștere
ATTACH;FMTTYPE=image/png:https://bhaktimarga.ro/wp-content/uploads/2025/07/curs-de-devoti.png
ORGANIZER;CN="Vrindavana Ishvara Dasi":MAILTO:vrindavana@bhaktimarga.ro
LOCATION:https://us06web.zoom.us/j/82613440835
END:VEVENT
BEGIN:VEVENT
DTSTART;TZID=Europe/Bucharest:20250808T200000
DTEND;TZID=Europe/Bucharest:20250808T213000
DTSTAMP:20260421T145923
CREATED:20250717T112330Z
LAST-MODIFIED:20250717T113437Z
UID:10001348-1754683200-1754688600@bhaktimarga.ro
SUMMARY:Curs de devoți - Iulie - Septembrie 2025
DESCRIPTION:Te invităm să participi la un curs gratuit în 8 sesiuni\, dedicat celor care vor să pătrundă în înțelepciunea vedică și să descopere fundamentele hinduismului și ale căii Hari Bhakta Sampradaya\, calea iubitorilor de Dumnezeu. \nCursul este deschis atât celor care doresc să devină devoți\, cât și celor interesați să înțeleagă mai profund această tradiție spirituală unică\, cu rădăcini milenare. \n🔥 Cursul este GRATUIT \nVom explora împreună concepte esențiale din tradiția hindusă\, filozofie\, scripturi\, calea bhakti și rolul spiritual al Maestrului. Este o oportunitate de a-ți aprofunda înțelegerea despre tine și despre Divinitate\, alături de o comunitate dedicată. \n👉 Pentru informații și noutăți despre curs\, te poți alătura grupului de telegram: \nKnowledge Bhakti Marga Romania (https://t.me/+c0BK9CdsF5xmNzc0) \nTe așteptăm cu bucurie să începi această călătorie spre adevăr și iubire divină!
URL:https://bhaktimarga.ro/eveniment/curs-de-devoti-iulie-septembrie-2025/2025-08-08/
CATEGORIES:Cunoaștere
ATTACH;FMTTYPE=image/png:https://bhaktimarga.ro/wp-content/uploads/2025/07/curs-de-devoti.png
ORGANIZER;CN="Vrindavana Ishvara Dasi":MAILTO:vrindavana@bhaktimarga.ro
LOCATION:https://us06web.zoom.us/j/82613440835
END:VEVENT
BEGIN:VEVENT
DTSTART;TZID=Europe/Bucharest:20250801T200000
DTEND;TZID=Europe/Bucharest:20250801T213000
DTSTAMP:20260421T145923
CREATED:20250717T112330Z
LAST-MODIFIED:20250717T113437Z
UID:10001347-1754078400-1754083800@bhaktimarga.ro
SUMMARY:Curs de devoți - Iulie - Septembrie 2025
DESCRIPTION:Te invităm să participi la un curs gratuit în 8 sesiuni\, dedicat celor care vor să pătrundă în înțelepciunea vedică și să descopere fundamentele hinduismului și ale căii Hari Bhakta Sampradaya\, calea iubitorilor de Dumnezeu. \nCursul este deschis atât celor care doresc să devină devoți\, cât și celor interesați să înțeleagă mai profund această tradiție spirituală unică\, cu rădăcini milenare. \n🔥 Cursul este GRATUIT \nVom explora împreună concepte esențiale din tradiția hindusă\, filozofie\, scripturi\, calea bhakti și rolul spiritual al Maestrului. Este o oportunitate de a-ți aprofunda înțelegerea despre tine și despre Divinitate\, alături de o comunitate dedicată. \n👉 Pentru informații și noutăți despre curs\, te poți alătura grupului de telegram: \nKnowledge Bhakti Marga Romania (https://t.me/+c0BK9CdsF5xmNzc0) \nTe așteptăm cu bucurie să începi această călătorie spre adevăr și iubire divină!
URL:https://bhaktimarga.ro/eveniment/curs-de-devoti-iulie-septembrie-2025/2025-08-01/
CATEGORIES:Cunoaștere
ATTACH;FMTTYPE=image/png:https://bhaktimarga.ro/wp-content/uploads/2025/07/curs-de-devoti.png
ORGANIZER;CN="Vrindavana Ishvara Dasi":MAILTO:vrindavana@bhaktimarga.ro
LOCATION:https://us06web.zoom.us/j/82613440835
END:VEVENT
BEGIN:VEVENT
DTSTART;TZID=Europe/Bucharest:20250725T200000
DTEND;TZID=Europe/Bucharest:20250725T213000
DTSTAMP:20260421T145923
CREATED:20250717T112330Z
LAST-MODIFIED:20250717T113437Z
UID:10001346-1753473600-1753479000@bhaktimarga.ro
SUMMARY:Curs de devoți - Iulie - Septembrie 2025
DESCRIPTION:Te invităm să participi la un curs gratuit în 8 sesiuni\, dedicat celor care vor să pătrundă în înțelepciunea vedică și să descopere fundamentele hinduismului și ale căii Hari Bhakta Sampradaya\, calea iubitorilor de Dumnezeu. \nCursul este deschis atât celor care doresc să devină devoți\, cât și celor interesați să înțeleagă mai profund această tradiție spirituală unică\, cu rădăcini milenare. \n🔥 Cursul este GRATUIT \nVom explora împreună concepte esențiale din tradiția hindusă\, filozofie\, scripturi\, calea bhakti și rolul spiritual al Maestrului. Este o oportunitate de a-ți aprofunda înțelegerea despre tine și despre Divinitate\, alături de o comunitate dedicată. \n👉 Pentru informații și noutăți despre curs\, te poți alătura grupului de telegram: \nKnowledge Bhakti Marga Romania (https://t.me/+c0BK9CdsF5xmNzc0) \nTe așteptăm cu bucurie să începi această călătorie spre adevăr și iubire divină!
URL:https://bhaktimarga.ro/eveniment/curs-de-devoti-iulie-septembrie-2025/2025-07-25/
CATEGORIES:Cunoaștere
ATTACH;FMTTYPE=image/png:https://bhaktimarga.ro/wp-content/uploads/2025/07/curs-de-devoti.png
ORGANIZER;CN="Vrindavana Ishvara Dasi":MAILTO:vrindavana@bhaktimarga.ro
LOCATION:https://us06web.zoom.us/j/82613440835
END:VEVENT
BEGIN:VEVENT
DTSTART;TZID=Europe/Bucharest:20250215T100000
DTEND;TZID=Europe/Bucharest:20250215T120000
DTSTAMP:20260421T145923
CREATED:20250114T153201Z
LAST-MODIFIED:20250128T103554Z
UID:10001102-1739613600-1739620800@bhaktimarga.ro
SUMMARY:Curs Babaji Surya Namaskar - Februarie 2025
DESCRIPTION:Babaji Surya Namaskar (Salutul Soarelui) – varianta oferită de maeștrii Mahavatar Babaji și Paramahamsa Vishwananda\, îmbină armonios ideea de corp sănătos cu cea de creștere spirituală. BSN este\, de fapt\, un salut dual: Salutul Soarelui și Salutul Lunii. Cele două energii\,  masculină și feminină\, se armonizează prin practicarea acestei tehnici\, aducând echilibru și unitate în corp\, minte și spirit. \nAceastă practică combină mai multe asanas (posturi) într-o singură tehnică dinamică cu mari beneficii atât fizice\, cât și psiho-emoționalo-spirituale. \nA practica yoga nu este doar despre a face sport\, ci despre a susține un corp sănătos și puternic astfel încât să te poți bucura de experiența vieții\, de acest dar minunat pe care îl primim de la DIVIN \, înțelegând că scopul corpului nostru este să ne susțină pe calea spirituală aleasă. \nBabaji Surya Namaskar este ca o punte de legatură între yoga modernă centrată pe exercițiul fizic și realul obiectiv al practicii de yoga așa cum a fost ea introdusă acum mii de ani\, conectarea cu Divinul interior. \nVă invităm să experimentați această tehnică și să vă bucurați de beneficiile ei (doar 5’ de practică reprezintă 45′ de Hatha Yoga\, confirmat de profesorii care practică și BSN și Hatha Yoga). \nPentru orice fel de întrebări vă rugăm să contactați profesorul organizator\, Vrindavana Ishvara dasi (Eliza Teofănescu Costin).
URL:https://bhaktimarga.ro/eveniment/curs-babaji-surya-namaskar-februarie-2025/
LOCATION:Centrul Bhakti Marga\, Sibiu\, Calea Cisnadie 50\, etaj 2\, Sibiu\, Sibiu\, Romania
CATEGORIES:Yoga & Meditație
ORGANIZER;CN="Vrindavana Ishvara Dasi":MAILTO:vrindavana@bhaktimarga.ro
END:VEVENT
END:VCALENDAR