BEGIN:VCALENDAR
VERSION:2.0
PRODID:-//Bhakti Marga Romania - ECPv6.15.20//NONSGML v1.0//EN
CALSCALE:GREGORIAN
METHOD:PUBLISH
X-WR-CALNAME:Bhakti Marga Romania
X-ORIGINAL-URL:https://bhaktimarga.ro
X-WR-CALDESC:Evenimente pentru Bhakti Marga Romania
REFRESH-INTERVAL;VALUE=DURATION:PT1H
X-Robots-Tag:noindex
X-PUBLISHED-TTL:PT1H
BEGIN:VTIMEZONE
TZID:Europe/Bucharest
BEGIN:DAYLIGHT
TZOFFSETFROM:+0200
TZOFFSETTO:+0300
TZNAME:EEST
DTSTART:20220327T010000
END:DAYLIGHT
BEGIN:STANDARD
TZOFFSETFROM:+0300
TZOFFSETTO:+0200
TZNAME:EET
DTSTART:20221030T010000
END:STANDARD
BEGIN:DAYLIGHT
TZOFFSETFROM:+0200
TZOFFSETTO:+0300
TZNAME:EEST
DTSTART:20230326T010000
END:DAYLIGHT
BEGIN:STANDARD
TZOFFSETFROM:+0300
TZOFFSETTO:+0200
TZNAME:EET
DTSTART:20231029T010000
END:STANDARD
BEGIN:DAYLIGHT
TZOFFSETFROM:+0200
TZOFFSETTO:+0300
TZNAME:EEST
DTSTART:20240331T010000
END:DAYLIGHT
BEGIN:STANDARD
TZOFFSETFROM:+0300
TZOFFSETTO:+0200
TZNAME:EET
DTSTART:20241027T010000
END:STANDARD
BEGIN:DAYLIGHT
TZOFFSETFROM:+0200
TZOFFSETTO:+0300
TZNAME:EEST
DTSTART:20250330T010000
END:DAYLIGHT
BEGIN:STANDARD
TZOFFSETFROM:+0300
TZOFFSETTO:+0200
TZNAME:EET
DTSTART:20251026T010000
END:STANDARD
END:VTIMEZONE
BEGIN:VEVENT
DTSTART;TZID=Europe/Bucharest:20240523T190000
DTEND;TZID=Europe/Bucharest:20240523T200000
DTSTAMP:20260425T194837
CREATED:20240514T143331Z
LAST-MODIFIED:20240517T203927Z
UID:10000379-1716490800-1716494400@bhaktimarga.ro
SUMMARY:OM Chanting Romania - Luna Plina - 23 mai
DESCRIPTION:EXPERIMENTEAZĂ PUTEREA MANTREI OM \nOM este sunetul universal al creației\, cea mai înaltă și mai pură vibrație existentă. \nOM Chanting este o tehnică străveche\, ce activează potențialul de auto-vindecare al participanților\, folosind puterea sunetului sacru OM\, pentru a susține sănătatea fizică\, a genera energie pozitivă și a ridica vibrația mediului local.\n– Transformați negativitatea în energie pozitivă\n– Susțineți bunăstarea emoțională\, mentală și fizică\n– Cultivați mai multă iubire\, bucurie și pace pentru omenire \nUitată de-a lungul timpului\, această tehnică a fost redată omenirii de către maeștrii spirituali Mahavatar Babaji și Paramahamsa Vishwananda\, pentru binele tuturor\, pentru bunăstarea pământului și a omenirii\, în aceste vremuri pline de provocări.
URL:https://bhaktimarga.ro/eveniment/om-chanting-romania-luna-plina-23-mai/
LOCATION:Centrul Bhakti Marga\, Sibiu\, Calea Cisnadie 50\, etaj 2\, Sibiu\, Sibiu\, Romania
CATEGORIES:OM Chanting Lună Plină
ATTACH;FMTTYPE=image/jpeg:https://bhaktimarga.ro/wp-content/uploads/2024/05/OM-Chanting-Luna-Plina-23-mai-2024.jpg
ORGANIZER;CN="Rajenda Das":MAILTO:rajenda_das@bhaktimarga.ro
END:VEVENT
BEGIN:VEVENT
DTSTART;TZID=Europe/Bucharest:20231028T190000
DTEND;TZID=Europe/Bucharest:20231028T200000
DTSTAMP:20260425T194837
CREATED:20231025T080442Z
LAST-MODIFIED:20231025T080442Z
UID:10000331-1698519600-1698523200@bhaktimarga.ro
SUMMARY:OM Chanting Luna Plina
DESCRIPTION:Om Chanting este o practică de grup care folosește puterea de transformare a vibrației înalte a sunetului sacru OM. Astfel activează potențialul de auto-vindecare al participanților. Pe lângă beneficiile pe care le aduce participanților\, Om Chanting este și o contribuție la pacea și bunăstarea întregii omeniri. Valurile de vibrații energetice create de OM Chanting se răspândesc pe o rază de 2 km în jurul participanților creând un mediu înconjurător armonios\, plin de pace și unitate\, o simbioză între oameni și natură.
URL:https://bhaktimarga.ro/eveniment/om-chanting-luna-plina-4/
LOCATION:Studio Sperantei 24\, Str Sperantei 24\, et 5\, ap 10\, Bucuresti\, Romania
CATEGORIES:OM Chanting Lună Plină
ATTACH;FMTTYPE=image/jpeg:https://bhaktimarga.ro/wp-content/uploads/2023/10/OMC-Roxana.jpg
END:VEVENT
BEGIN:VEVENT
DTSTART;TZID=Europe/Bucharest:20231014T070000
DTEND;TZID=Europe/Bucharest:20231014T080000
DTSTAMP:20260425T194837
CREATED:20231011T162514Z
LAST-MODIFIED:20231011T162612Z
UID:10000327-1697266800-1697270400@bhaktimarga.ro
SUMMARY:OM Chanting - 14 Octombrie
DESCRIPTION:Om Chanting este o practică de grup care folosește puterea de transformare a vibrației înalte a sunetului sacru OM. Astfel activează potențialul de auto-vindecare al participanților. \nPe lângă beneficiile pe care le aduce participanților\, Om Chanting este și o contribuție la pacea și bunăstarea întregii omeniri. Valurile de vibrații energetice create de OM Chanting se răspândesc pe o rază de 2 km în jurul participanților creând un mediu înconjurător armonios\, plin de pace și unitate\, o simbioză între oameni și natură.
URL:https://bhaktimarga.ro/eveniment/om-chanting-14-octombrie/
LOCATION:Strada Părintele Stăniloae nr. 6\, strada Părintele Stăniloae nr 6\, Bucuresti\, Romania
CATEGORIES:OM Chanting
ATTACH;FMTTYPE=image/jpeg:https://bhaktimarga.ro/wp-content/uploads/2023/10/OMC-14-oct.jpg
END:VEVENT
BEGIN:VEVENT
DTSTART;TZID=Europe/Bucharest:20231012T190000
DTEND;TZID=Europe/Bucharest:20231012T200000
DTSTAMP:20260425T194837
CREATED:20231005T100622Z
LAST-MODIFIED:20231011T162358Z
UID:10000325-1697137200-1697140800@bhaktimarga.ro
SUMMARY:OM Chanting - 12 Octombrie
DESCRIPTION:Om Chanting este o practică de grup care folosește puterea de transformare a vibrației înalte a sunetului sacru OM. Astfel activează potențialul de auto-vindecare al participanților. \nPe lângă beneficiile pe care le aduce participanților\, Om Chanting este și o contribuție la pacea și bunăstarea întregii omeniri. Valurile de vibrații energetice create de OM Chanting se răspândesc pe o rază de 2 km în jurul participanților creând un mediu înconjurător armonios\, plin de pace și unitate\, o simbioză între oameni și natură.
URL:https://bhaktimarga.ro/eveniment/om-chanting-12-octombrie/
LOCATION:Bd Unirii nr 27\, bl 15\, sc 2\, et 4\, ap 34\, Bd Unirii 27\, Bucuresti\, Romania
CATEGORIES:OM Chanting
ATTACH;FMTTYPE=image/jpeg:https://bhaktimarga.ro/wp-content/uploads/2023/10/OMC-12-oct.jpg
END:VEVENT
BEGIN:VEVENT
DTSTART;TZID=Europe/Bucharest:20230929T190000
DTEND;TZID=Europe/Bucharest:20230929T200000
DTSTAMP:20260425T194837
CREATED:20230928T064739Z
LAST-MODIFIED:20230928T064739Z
UID:10000318-1696014000-1696017600@bhaktimarga.ro
SUMMARY:OM Chanting Luna Plina
DESCRIPTION:Om Chanting este o practică de grup care folosește puterea de transformare a vibrației înalte a sunetului sacru OM. Astfel activează potențialul de auto-vindecare al participanților. Pe lângă beneficiile pe care le aduce participanților\, Om Chanting este și o contribuție la pacea și bunăstarea întregii omeniri. Valurile de vibrații energetice create de OM Chanting se răspândesc pe o rază de 2 km în jurul participanților creând un mediu înconjurător armonios\, plin de pace și unitate\, o simbioză între oameni și natură.
URL:https://bhaktimarga.ro/eveniment/om-chanting-luna-plina-3/
LOCATION:Bd Unirii nr 27\, bl 15\, sc 2\, et 4\, ap 34\, Bd Unirii 27\, Bucuresti\, Romania
CATEGORIES:OM Chanting Lună Plină
ATTACH;FMTTYPE=image/jpeg:https://bhaktimarga.ro/wp-content/uploads/2023/09/OMC-Roxana.jpg
END:VEVENT
END:VCALENDAR