BEGIN:VCALENDAR
VERSION:2.0
PRODID:-//Bhakti Marga Romania - ECPv6.15.20//NONSGML v1.0//EN
CALSCALE:GREGORIAN
METHOD:PUBLISH
X-WR-CALNAME:Bhakti Marga Romania
X-ORIGINAL-URL:https://bhaktimarga.ro
X-WR-CALDESC:Evenimente pentru Bhakti Marga Romania
REFRESH-INTERVAL;VALUE=DURATION:PT1H
X-Robots-Tag:noindex
X-PUBLISHED-TTL:PT1H
BEGIN:VTIMEZONE
TZID:Europe/Bucharest
BEGIN:DAYLIGHT
TZOFFSETFROM:+0200
TZOFFSETTO:+0300
TZNAME:EEST
DTSTART:20230326T010000
END:DAYLIGHT
BEGIN:STANDARD
TZOFFSETFROM:+0300
TZOFFSETTO:+0200
TZNAME:EET
DTSTART:20231029T010000
END:STANDARD
BEGIN:DAYLIGHT
TZOFFSETFROM:+0200
TZOFFSETTO:+0300
TZNAME:EEST
DTSTART:20240331T010000
END:DAYLIGHT
BEGIN:STANDARD
TZOFFSETFROM:+0300
TZOFFSETTO:+0200
TZNAME:EET
DTSTART:20241027T010000
END:STANDARD
BEGIN:DAYLIGHT
TZOFFSETFROM:+0200
TZOFFSETTO:+0300
TZNAME:EEST
DTSTART:20250330T010000
END:DAYLIGHT
BEGIN:STANDARD
TZOFFSETFROM:+0300
TZOFFSETTO:+0200
TZNAME:EET
DTSTART:20251026T010000
END:STANDARD
BEGIN:DAYLIGHT
TZOFFSETFROM:+0200
TZOFFSETTO:+0300
TZNAME:EEST
DTSTART:20260329T010000
END:DAYLIGHT
BEGIN:STANDARD
TZOFFSETFROM:+0300
TZOFFSETTO:+0200
TZNAME:EET
DTSTART:20261025T010000
END:STANDARD
END:VTIMEZONE
BEGIN:VEVENT
DTSTART;TZID=Europe/Bucharest:20250126T140000
DTEND;TZID=Europe/Bucharest:20250126T170000
DTSTAMP:20260422T172109
CREATED:20250114T152320Z
LAST-MODIFIED:20250119T192119Z
UID:10001101-1737900000-1737910800@bhaktimarga.ro
SUMMARY:Curs de Manjeera - Ianuarie 2025
DESCRIPTION:Dacă îți dorești să înveți să cânți la un instrument străvechi și sacru\, Manjeera este alegerea perfectă! Cunoscut și sub numele de Manjira sau Tala\, acest set de chimvale mici de mână este folosit pentru a acompania muzica religioasă și populară\, fiind esențial în ritualurile de kirtan și bhajan. \nÎn sanscrită\, cuvântul Tala se referă la baterea din palme\, iar Manjeera îți oferă ocazia de a emite un sunet pur și ritmic\, care însoțește cu armonie cântecele devotionale și momentele de meditație. \nAlătură-te cursului nostru și descoperă cum să folosești acest instrument fascinant\, care are o tradiție de sute de ani în India și în templele antice. Beneficiază de o învățătură profundă și autentică și adaugă o nouă dimensiune spiritualității tale prin sunetul de Manjeera.    \nTe așteptăm!
URL:https://bhaktimarga.ro/eveniment/curs-de-manjeera-ianuarie-2025/
LOCATION:Centrul Bhakti Marga\, Sibiu\, Calea Cisnadie 50\, etaj 2\, Sibiu\, Sibiu\, Romania
CATEGORIES:Arte Devoționale,Muzica
ATTACH;FMTTYPE=image/jpeg:https://bhaktimarga.ro/wp-content/uploads/2025/01/photo_2025-01-13-11.30.24.jpeg
END:VEVENT
BEGIN:VEVENT
DTSTART;TZID=Europe/Bucharest:20240217T130000
DTEND;TZID=Europe/Bucharest:20240217T160000
DTSTAMP:20260422T172109
CREATED:20240117T071805Z
LAST-MODIFIED:20240117T071826Z
UID:10000339-1708174800-1708185600@bhaktimarga.ro
SUMMARY:Curs de Mridanga - Bucuresti - Feb 2024
DESCRIPTION:
URL:https://bhaktimarga.ro/eveniment/curs-de-mridanga-bucuresti-feb-2024/
LOCATION:Studio Sangha\, Studio Sangha\, Bucuresti\, Romania
CATEGORIES:Arte Devoționale,Muzica
ATTACH;FMTTYPE=image/jpeg:https://bhaktimarga.ro/wp-content/uploads/2024/01/Curs-Mridanga-Bucuresti-Feb-2024.jpg
GEO:44.3710007;26.139685
X-APPLE-STRUCTURED-LOCATION;VALUE=URI;X-ADDRESS=Studio Sangha Studio Sangha Bucuresti Romania;X-APPLE-RADIUS=500;X-TITLE=Studio Sangha:geo:26.139685,44.3710007
END:VEVENT
END:VCALENDAR