BEGIN:VCALENDAR
VERSION:2.0
PRODID:-//Bhakti Marga Romania - ECPv6.15.16//NONSGML v1.0//EN
CALSCALE:GREGORIAN
METHOD:PUBLISH
X-WR-CALNAME:Bhakti Marga Romania
X-ORIGINAL-URL:https://bhaktimarga.ro
X-WR-CALDESC:Evenimente pentru Bhakti Marga Romania
REFRESH-INTERVAL;VALUE=DURATION:PT1H
X-Robots-Tag:noindex
X-PUBLISHED-TTL:PT1H
BEGIN:VTIMEZONE
TZID:Europe/Bucharest
BEGIN:DAYLIGHT
TZOFFSETFROM:+0200
TZOFFSETTO:+0300
TZNAME:EEST
DTSTART:20220327T010000
END:DAYLIGHT
BEGIN:STANDARD
TZOFFSETFROM:+0300
TZOFFSETTO:+0200
TZNAME:EET
DTSTART:20221030T010000
END:STANDARD
BEGIN:DAYLIGHT
TZOFFSETFROM:+0200
TZOFFSETTO:+0300
TZNAME:EEST
DTSTART:20230326T010000
END:DAYLIGHT
BEGIN:STANDARD
TZOFFSETFROM:+0300
TZOFFSETTO:+0200
TZNAME:EET
DTSTART:20231029T010000
END:STANDARD
BEGIN:DAYLIGHT
TZOFFSETFROM:+0200
TZOFFSETTO:+0300
TZNAME:EEST
DTSTART:20240331T010000
END:DAYLIGHT
BEGIN:STANDARD
TZOFFSETFROM:+0300
TZOFFSETTO:+0200
TZNAME:EET
DTSTART:20241027T010000
END:STANDARD
BEGIN:DAYLIGHT
TZOFFSETFROM:+0200
TZOFFSETTO:+0300
TZNAME:EEST
DTSTART:20250330T010000
END:DAYLIGHT
BEGIN:STANDARD
TZOFFSETFROM:+0300
TZOFFSETTO:+0200
TZNAME:EET
DTSTART:20251026T010000
END:STANDARD
END:VTIMEZONE
BEGIN:VEVENT
DTSTART;VALUE=DATE:20240721
DTEND;VALUE=DATE:20240722
DTSTAMP:20260216T070048
CREATED:20240213T190546Z
LAST-MODIFIED:20240213T190546Z
UID:10000344-1721520000-1721606399@bhaktimarga.ro
SUMMARY:Guru Purnima
DESCRIPTION:
URL:https://bhaktimarga.ro/eveniment/guru-purnima/
LOCATION:The Ashram\, The Ashram Shree Peetha Nilaya\, Germany
CATEGORIES:SPN
END:VEVENT
BEGIN:VEVENT
DTSTART;VALUE=DATE:20240717
DTEND;VALUE=DATE:20240721
DTSTAMP:20260216T070048
CREATED:20240213T190505Z
LAST-MODIFIED:20240213T190506Z
UID:10000343-1721174400-1721519999@bhaktimarga.ro
SUMMARY:Just Love Festival 2024
DESCRIPTION:
URL:https://bhaktimarga.ro/eveniment/just-love-festival-2024/
LOCATION:The Ashram\, The Ashram Shree Peetha Nilaya\, Germany
CATEGORIES:Muzica
END:VEVENT
BEGIN:VEVENT
DTSTART;VALUE=DATE:20240612
DTEND;VALUE=DATE:20240614
DTSTAMP:20260216T070048
CREATED:20240213T190750Z
LAST-MODIFIED:20240213T190750Z
UID:10000346-1718150400-1718323199@bhaktimarga.ro
SUMMARY:Gurudev Jayanti
DESCRIPTION:
URL:https://bhaktimarga.ro/eveniment/gurudev-jayanti/
LOCATION:The Ashram\, The Ashram Shree Peetha Nilaya\, Germany
CATEGORIES:SPN
END:VEVENT
BEGIN:VEVENT
DTSTART;VALUE=DATE:20230714
DTEND;VALUE=DATE:20230721
DTSTAMP:20260216T070048
CREATED:20230106T211833Z
LAST-MODIFIED:20230516T175651Z
UID:10000275-1689292800-1689897599@bhaktimarga.ro
SUMMARY:Săptămâna României la SPN - 2023 - Retragere
DESCRIPTION:COUNTRY WEEK\n\n\n\n\n			\n				\n				\n				\n				\n				Prețuri:\n– camera 4-5 persoane: cazare + cursuri = 1975 lei \n– camera 2-3 persoane: cazare + cursuri = 2425 lei \n  \nCopiii au reducere\, după cum urmează: \nCazare:\n0-5 ani – gratuit \n6-15 ani – 25% din prețul camerei \n450 Lei – în camera 2-3 persoane338 Lei – în camera 4-5 persoane \n  \nCursuri:\n0-5 ani – gratuit \n6-15 ani = 186 Lei \n16-24 ani cu carnet de student = 372 Lei \n			\n				\n				\n				\n				\n				 \nÎNTREBĂRI\n0728887595 \nromania@bhaktimarga.ro \n			\n				\n				\n				\n				\n				 \nREGULI COVID\nVă rugăm să verificați regulile COVID înainte de a vă înscrie. \nDin cauza fluctuației cerințelor legale Covid\, este posibil să fim nevoiți să vă anulăm rezervarea sau să modificăm configurația camerei\, ceea ce ar putea duce la o creștere a prețului. \n			\n				\n				\n				\n				\n				 \nADRESA\nThe Ashram – Shree Peetha NilayaAm Geisberg 1-8\,65321 Heidenrod Springen\,Germania \n			\n			\n				\n				\n				\n				\n				\n				\n				\n				\n				\n				SĂPTĂMÂNILE DE ȚARĂ 2023\n			\n				\n				\n				\n				\n				Faceți-vă timp pentru a vă îndepărta de rutina zilnică și pentru a aduce Divinul în fiecare moment al vieții dumneavoastră. Un pelerinaj la Shree Peetha Nilaya pentru o săptămână vă oferă o oportunitate extraordinară de aprofundare a ceea ce înseamnă calea Bhakti. Veți avea astfel ocazia să cunoașteți și să fiți inspirați de alte persoane aflate în această călătorie. \n			\n				\n				\n				\n				\n				Ceea ce primești de la Dumnezeu nu este doar pentru tine\, este și pentru a împărtăși cu ceilalți și pentru a le reaminti oamenilor de Iubirea lui Dumnezeu. \nParamahamsa Vishwananda \n \n			\n				\n				\n				\n				\n				Paramahamsa Vishwananda vorbește adesea despre cât de important este să învățăm mai multe despre calea noastră spirituală și să avem o înțelegere clară a scopului real al vieții. Atunci când ești puternic pe calea ta\, îi inspiri și pe alții să se schimbe și contribui la creșterea tuturor celor din jurul tău. Să trăiești bhakti înseamnă să Îl pui pe Dumnezeu pe primul loc în tot ceea ce faci și acest lucru se realizează având un scop clar\, extinzându-ți cunoștințele\, implicându-te într-o practică spirituală consecventă și fiind puternic în angajamentul tău. \n			\n				\n				\n				\n				\n				\n			\n				\n				\n				\n				\n				LA CE SĂ TE AȘTEPȚI\n			\n				\n				\n				\n				\n				Săptămâna de țară este concepută pentru a vă oferi experiența bucuriei și ușurinței de a trăi bhakti în fiecare zi. Pe parcursul săptămânii\, veți face cunoștință cu o varietate de modalități de a experimenta\, exprima și cultiva bhakti\, precum și cu modul în care să încorporați toate acestea în stilul dumneavoastră de viață. \nPe lângă timpul petrecut cu Paramahamsa Vishwananda\, vă veți putea extinde orizonturile prin cursurile din cadrul celor patru brațe Bhakti Marga: Cunoaștere\, Yoga și meditație\, Arte devoționale și Ritualuri. Cunoștințele și abilitățile pe care le veți învăța vă vor ajuta să vă realizați și să vă hrăniți relația unică și personală cu Divinul​. \n  \n			\n				\n				\n				\n				\n				Activități\nEveniment cu Paramahamsa Vishwananda\n\nSatsang și Darshan exclusiv (deschis doar pentru participanții la Săptămâna Țării)\nGurudev poate oferi\, de asemenea\, Satsang-uri spontane tuturor celor din Ashram\n\nPatru module de educație devoțională\nConferințe de cunoaștere (nivel începător și intermediar) \nModulul de Cunoaștere de nivel Începător se va axa pe elementele de bază ale învățăturilor lui Guruji\, inclusiv hinduismu și vaishnavismu\, aplicarea acestora și a practicilor aferente lor în viața de zi cu zi. Prelegerile vor explora complexitatea viziunii originale a hinduismului și vor defini\, de asemenea\, ce înseamnă să fii un Vaishnava – în special în contextul Bhakti Marga – explorând teologia\, filozofiile și metodologiile acestei sub-religii incredibile a hinduismului \nModulul de Cunoaștere de nivel Intermediar se va axa pe învățăturile lui Guruji cu privire la diferite scripturi asupra cărora Guruji a oferit explicațiile și comentarii. Prelegerile vor împleti înțelepciunea din Bhagavad Gītā\, Śrīmad Bhāgavatam\, Nārada-bhakti-sūtra și Mukunda-mālā-stotram\, pentru a vă ajuta să înțelegeți mai bine călătoria Bhakti Marga și să vă aprofundați conexiunea cu Guru și Dumnezeu. \nYoga & Meditație – Modulul Yoga evidențiază rolul pe care Yoga și meditația îl joacă pe calea spirituală. Vei fi introdus în diferitele practici de Yoga & Meditație Bhakti Marga și vei primi învățături despre mudre specifice\, îndrumări privind Practica Avansată și o prezentare generală a filosofiei Kriya și Bhakti Yoga.  \nArte devoționale (la alegere între unul sau două? cursuri de 1\,5-3 ore) – Modulul de Arte devoționale vă oferă ocazia de a vă explora latura creativă a spiritualității. Aceste cursuri cu caracter experiențial vă oferă șansa de a vă exprima dragostea și devoțiunea în modul în care vă atrage cel mai mult.  \n\nMeditație prin pictură\nCântatul de Bhajane\nMridanga\nDans pentru Dumnezeu: Nivel începător și Nivel Intermediar*\n\n  \nRitualuri (La alegere între un curs de 2\,5-4 ore) – Modulul Ritualuri vă permite să învățați câteva ritualuri de bază pe care le puteți face acasă. Aceste ritualuri sunt o parte esențială a căii noastre Bhakti Marga și fiecare dintre ele vă permite să vă conectați mai profund cu Divinul.  \n\nPuja simplă\nAbhishekam*\nYajna*\nCântarea vedică – nivel începător și intermediar*\nConfecționarea ghirlandelor de flori\n\n*Nu putem garanta că toate cursurile vor fi oferite\, deoarece acest lucru depinde de numărul de persoane care s-au înscris la cursurile de diferite niveluri și de disponibilitatea profesorilor și a sălii. \n			\n				\n					\n					\n					\n				\n				\n					\n					\n					\n				\n				\n					\n					\n					\n				\n				\n				\n				\n				\n				\n				Activități opționale (în funcție de timpul existent și de disponibilitate)\nRugăciuni la templu  \n\nRugăciuni zilnice de dimineață și de seară\nSatsang-uri zilnice de dimineață cu Śrīmad Bhāgavatam\nSatsang-uri zilnice de seară Divya-prabhandam\nArati de seară: templul principal și mandirurile exterioare\n\n			\n				\n					\n					\n					\n				\n				\n					\n					\n					\n				\n				\n					\n					\n					\n				\n				\n				\n				\n				\n				\n				Yoga & Meditație \n\nOM Chanting zilnic\, public (1 oră)\nMaha OM Chanting cu participanții la Săptămâna Țării\nParikrama – Plimbare de Japa în tăcere\nPractica de grup Atma Kriya Yoga\n\n			\n				\n				\n				\n				\n				Seva ((serviciu dezinteresat) \n			\n				\n				\n				\n				\n				Programul pentru copii (vârste 0-9 ani) este disponibil doar cu o rezervare în avans făcută prin intermediul coordonatorului Săptămânii Țărilor \n			\n				\n					\n					\n					\n				\n				\n				\n				\n				\n				\n				ÎNREGISTRARE ȘI CONTACT\nDacă sunteți cetățean al uneia dintre țările prezentate mai jos și doriți să participați la acest eveniment\, vă rugăm să folosiți lista de e-mail de mai jos pentru a face aranjamentele cu Coordonatorul Săptămânii Țării Bhakti Marga. Aceștia vă vor putea oferi mai multe detalii\, precum și să vă răspundă la întrebările dvs. despre prețuri și să vă ajute să rezervați o cameră la Ashram. De asemenea\, vă rugăm să întrebați despre programele disponibile pentru copii\, dacă veți fi însoțiți de copiii.  \n \n			\n				\n				\n				\n				\n				DETALII DESPRE PREȚ\nPrețurile variază între 125 și 485 de euro\, în funcție de cazare. Vă rugăm să discutați opțiunile cu coordonatorul Săptămânii de Țară. \n  \n			\n				\n				\n				\n				\n				ANULĂRI\nDacă nu puteți participa\, vă rugăm să fiți respectuoși și să vă anulați evenimentul pentru a face loc altora să participe.Pentru anulări cu 6 săptămâni înainte de începerea evenimentului: Rambursarea 100% din taxa de curs.Pentru anulări între a 6-a săptămână și până la 7 zile înainte de eveniment: 20% taxă de anulare.Pentru anulări între 6 zile – 24 de ore înainte de eveniment: 50% taxă de anulare.Pentru anulări cu mai puțin de 24 de ore înainte de eveniment: 100% taxă de anulare. \n  \n			\n				\n				\n				\n				\n				OPERATOR\nBhakti Event GmbHAm Geisberg 1-8\, 65321 Heidenrod Springen\, Germania
URL:https://bhaktimarga.ro/eveniment/saptamana-romaniei-la-spn-2023/
LOCATION:The Ashram\, The Ashram Shree Peetha Nilaya\, Germany
CATEGORIES:SPN
ATTACH;FMTTYPE=image/jpeg:https://bhaktimarga.ro/wp-content/uploads/2023/01/Country-Week-2023.jpg
ORGANIZER;CN="Bhakti Marga Rom%C3%A2nia":MAILTO:romania@bhaktimarga.ro
END:VEVENT
END:VCALENDAR