BEGIN:VCALENDAR
VERSION:2.0
PRODID:-//Bhakti Marga Romania - ECPv6.15.20//NONSGML v1.0//EN
CALSCALE:GREGORIAN
METHOD:PUBLISH
X-ORIGINAL-URL:https://bhaktimarga.ro
X-WR-CALDESC:Evenimente pentru Bhakti Marga Romania
REFRESH-INTERVAL;VALUE=DURATION:PT1H
X-Robots-Tag:noindex
X-PUBLISHED-TTL:PT1H
BEGIN:VTIMEZONE
TZID:Europe/Bucharest
BEGIN:DAYLIGHT
TZOFFSETFROM:+0200
TZOFFSETTO:+0300
TZNAME:EEST
DTSTART:20250330T010000
END:DAYLIGHT
BEGIN:STANDARD
TZOFFSETFROM:+0300
TZOFFSETTO:+0200
TZNAME:EET
DTSTART:20251026T010000
END:STANDARD
BEGIN:DAYLIGHT
TZOFFSETFROM:+0200
TZOFFSETTO:+0300
TZNAME:EEST
DTSTART:20260329T010000
END:DAYLIGHT
BEGIN:STANDARD
TZOFFSETFROM:+0300
TZOFFSETTO:+0200
TZNAME:EET
DTSTART:20261025T010000
END:STANDARD
BEGIN:DAYLIGHT
TZOFFSETFROM:+0200
TZOFFSETTO:+0300
TZNAME:EEST
DTSTART:20270328T010000
END:DAYLIGHT
BEGIN:STANDARD
TZOFFSETFROM:+0300
TZOFFSETTO:+0200
TZNAME:EET
DTSTART:20271031T010000
END:STANDARD
END:VTIMEZONE
BEGIN:VEVENT
DTSTART;TZID=Europe/Bucharest:20260112T190000
DTEND;TZID=Europe/Bucharest:20260112T200000
DTSTAMP:20260422T154344
CREATED:20250526T141348Z
LAST-MODIFIED:20250526T141442Z
UID:10001337-1768244400-1768248000@bhaktimarga.ro
SUMMARY:OM Chanting - Centrul Bhakti Marga Bucuresti - Luni
DESCRIPTION:Această practică de grup reprezintă o oportunitate de a experimenta un moment de comuniune profundă cu Divinul. OM Chanting-ul nu doar că aduce vindecare celor care participă\, dar extinde un câmp energetic puternic ce influențează întreaga natură și tot ce se află în raza de acțiune de 2 km în jurul acestor cercuri unde se incantează sunetul sacru OM. \nCe este OM Chanting? \nEste o rugăciune vie\, un act de iubire\, un serviciu care se întâmplă doar prin grația celor doi maeștri minunați\, Paramahamsa Vishwananda și Mahavatar Babaji. OM Chanting manifestă sunetul Divin OM și ne activează potențialul de autovindecare. Este un act de pādaseva-bhakti – un serviciu în numele binelui general\, în timpul căruia fiecare vibrație a sunetului ne ajută să intrăm în comuniune cu Divinul din interiorul nostru. \nAtunci când facem OM Chanting\, nu doar că ne vindecăm pe noi înșine\, dar contribuim și la crearea unui spațiu sacru\, care trezește divinitatea din jurul nostru – din oameni\, natură\, din tot ce ne înconjoară. \nBeneficii extraordinare: \n✔️ Vindecare fizică\, emoțională și spirituală \n✔️ Crearea unui câmp energetic de iubire ce se extinde pe 2 km \n✔️ Trezirea potențialului de autovindecare \n✔️ Conectarea cu Divinitatea din interiorul nostru \n✔️ Susținerea întregii comunități și a naturii \nTe invităm să trăiești această experiență unică și profund vindecătoare! Vino alături de noi pentru a simți puterea vibrațiilor divine și a experimenta o transformare în propria ta viață și în spațiul din jurul tău. Fiecare cerc de OM Chanting este o oportunitate de a cultiva  pacea interioară și de a întări conexiunea  cu Divinul. \nProfită de această ocazie rară de a trăi puterea vibrațiilor divine!
URL:https://bhaktimarga.ro/eveniment/om-chanting-bucuresti-bd-unirii-marti-2-2/2026-01-12/
LOCATION:Centrul Bhakti Marga București\, Strada Tunari 85\, Bucuresti\, Sector 2\, 020528\, Romania
CATEGORIES:OM Chanting
ATTACH;FMTTYPE=image/jpeg:https://bhaktimarga.ro/wp-content/uploads/2025/01/2OM-Chanting_eneric.jpg
ORGANIZER;CN="Akhila Dasi":MAILTO:akila_dasi@bhaktimarga.ro
END:VEVENT
BEGIN:VEVENT
DTSTART;TZID=Europe/Bucharest:20260114T190000
DTEND;TZID=Europe/Bucharest:20260114T200000
DTSTAMP:20260422T154344
CREATED:20250112T174413Z
LAST-MODIFIED:20250228T080613Z
UID:10001098-1768417200-1768420800@bhaktimarga.ro
SUMMARY:OM Chanting - Centrul Bhakti Marga Sibiu - Miercuri
DESCRIPTION:Această practică de grup reprezintă o oportunitate de a experimenta un moment de comuniune profundă cu Divinul. OM Chanting-ul nu doar că aduce vindecare celor care participă\, dar extinde un câmp energetic puternic ce influențează întreaga natură și tot ce se află în raza de acțiune de 2 km în jurul acestor cercuri unde se incantează sunetul sacru OM. \nCe este OM Chanting? \nEste o rugăciune vie\, un act de iubire\, un serviciu care se întâmplă doar prin grația celor doi maeștri minunați\, Paramahamsa Vishwananda și Mahavatar Babaji. OM Chanting manifestă sunetul Divin OM și ne activează potențialul de autovindecare. Este un act de pādaseva-bhakti – un serviciu în numele binelui general\, în timpul căruia fiecare vibrație a sunetului ne ajută să intrăm în comuniune cu Divinul din interiorul nostru. \nAtunci când facem OM Chanting\, nu doar că ne vindecăm pe noi înșine\, dar contribuim și la crearea unui spațiu sacru\, care trezește divinitatea din jurul nostru – din oameni\, natură\, din tot ce ne înconjoară. \nBeneficii extraordinare: \n✔️ Vindecare fizică\, emoțională și spirituală \n✔️ Crearea unui câmp energetic de iubire ce se extinde pe 2 km \n✔️ Trezirea potențialului de autovindecare \n✔️ Conectarea cu Divinitatea din interiorul nostru \n✔️ Susținerea întregii comunități și a naturii \nTe invităm să trăiești această experiență unică și profund vindecătoare! Vino alături de noi pentru a simți puterea vibrațiilor divine și a experimenta o transformare în propria ta viață și în spațiul din jurul tău. Fiecare cerc de OM Chanting este o oportunitate de a cultiva  pacea interioară și de a întări conexiunea  cu Divinul. \nProfită de această ocazie rară de a trăi puterea vibrațiilor divine!
URL:https://bhaktimarga.ro/eveniment/om-chanting-centrul-bhakti-marga-sibiu-miercuri-2/2026-01-14/
LOCATION:Centrul Bhakti Marga\, Sibiu\, Calea Cisnadie 50\, etaj 2\, Sibiu\, Sibiu\, Romania
CATEGORIES:OM Chanting
ATTACH;FMTTYPE=image/jpeg:https://bhaktimarga.ro/wp-content/uploads/2025/01/2OM-Chanting_eneric.jpg
ORGANIZER;CN="Sarvadeva Namaskrita Dasi":MAILTO:sarvadeva_namaskrita_dasi@bhaktimarga.ro
END:VEVENT
BEGIN:VEVENT
DTSTART;TZID=Europe/Bucharest:20260116T193000
DTEND;TZID=Europe/Bucharest:20260116T210000
DTSTAMP:20260422T154344
CREATED:20260106T125358Z
LAST-MODIFIED:20260116T172129Z
UID:10001499-1768591800-1768597200@bhaktimarga.ro
SUMMARY:BHAGAVAD GĪTĀ — Curs introductiv...
DESCRIPTION:…De la epopeea cunoscutǎ ca Mahabharata la viața ta: o introducere practică în Gītā. \nUn dialog atemporal despre sensul vieții\, putere interioară și acțiune conștientă\, în inima uneia dintre cele mai mari epopei ale lumii. \nÎn acest curs vei descoperi: \n• Povestea epopeii Mahābhārata: personaje-cheie\, alianțe și cauzele rǎzboiului de la Kurukṣetra\n• Temele esențiale din Gītā: dharma\, karma\, yoga\, devoțiune\, cunoaștere\, stăpânire de sine\n• Reflecții simple pentru a aduce în viața ta învățăturile Gītei \nEste pentru tine dacă: ești curios/curioasă sǎ afli mai multe despre filosofia și adevărata învățătură yoga\, vrei structură (nu confuzie) și cauți o perspectivă spirituală\, dar ancorată în realitate\, pentru viața de zi cu zi.\nNu ai nevoie de cunoștințe anterioare. \nCursul este gratuit iar linkul de participarea pe platforma zoom se poate accesa în urma înscrierii.
URL:https://bhaktimarga.ro/eveniment/bhagavad-gita-curs-introductiv-ianuarie-2026/
CATEGORIES:Cunoaștere
ATTACH;FMTTYPE=image/jpeg:https://bhaktimarga.ro/wp-content/uploads/2025/10/IMG_20251018_174706_683.jpg
ORGANIZER;CN="Sukharupa Dasi":MAILTO:oana@bhaktimarga.ro
LOCATION:https://us06web.zoom.us/j/84487589873
END:VEVENT
BEGIN:VEVENT
DTSTART;TZID=Europe/Bucharest:20260117T100000
DTEND;TZID=Europe/Bucharest:20260118T190000
DTSTAMP:20260422T154344
CREATED:20251213T202141Z
LAST-MODIFIED:20251213T204914Z
UID:10001491-1768644000-1768762800@bhaktimarga.ro
SUMMARY:Curs Atma Kriya Yoga - Bucuresti - Ianuarie 2026
DESCRIPTION:✨ Călătoria către tine însuți începe cu Atma Kriya Yoga✨ \nAtma Kriya Yoga este un sistem profund de tehnici care te va ajuta să pătrunzi în propria inima și să te conectezi cu Divinul. Această practică de yoga și meditație te va ghida spre uniunea cu Adevăratul Tău Sine\, purtându-te\, în cele din urmă\, către realizarea supremă – realizarea lui Dumnezeu. \n🌿 Cu toții căutăm fericirea și iubirea\, dar adesea o facem doar în lumea exterioară. Adevărata sursă a iubirii necondiționate se află însă mai aproape decât credem\, chiar în interiorul nostru. Atma Kriya Yoga te va conduce într-o călătorie interioară\, ajutându-te să descoperi Divinul din propria inimă\, cultivând o relație unică și personală cu acesta. \n🕊️ Atma Kriya Yoga nu este doar o practică de meditație. Prin inițierea în acest sistem sacru\, vei primi Shaktipat – energia divină ce îți va aduce Gratia Maeștrilor Kriya și a Mamei Divine\, purtându-te astfel pe calea eliberării de suferință. \n💫 Te invităm să începi călătoria spirituală alături de noi\, descoperind adevărata pace și iubire din inima ta. \nÎnscrie-te acum la cursul de Atma Kriya Yoga și pornește pe drumul către tine însuți!
URL:https://bhaktimarga.ro/eveniment/curs-atma-kriya-yoga-bucuresti-ianuarie-2026/
LOCATION:Centrul Bhakti Marga București\, Strada Tunari 85\, Bucuresti\, Sector 2\, 020528\, Romania
CATEGORIES:Yoga & Meditație
ATTACH;FMTTYPE=image/jpeg:https://bhaktimarga.ro/wp-content/uploads/2025/02/photo_2025-02-03-16.37.11.jpeg
END:VEVENT
BEGIN:VEVENT
DTSTART;TZID=Europe/Bucharest:20260118T190000
DTEND;TZID=Europe/Bucharest:20260118T200000
DTSTAMP:20260422T154344
CREATED:20250112T174032Z
LAST-MODIFIED:20250303T093812Z
UID:10000993-1768762800-1768766400@bhaktimarga.ro
SUMMARY:OM Chanting - Centrul Bhakti Marga Sibiu - Duminica
DESCRIPTION:Această practică de grup reprezintă o oportunitate de a experimenta un moment de comuniune profundă cu Divinul. OM Chanting-ul nu doar că aduce vindecare celor care participă\, dar extinde un câmp energetic puternic ce influențează întreaga natură și tot ce se află în raza de acțiune de 2 km în jurul acestor cercuri unde se incantează sunetul sacru OM. \nCe este OM Chanting? \nEste o rugăciune vie\, un act de iubire\, un serviciu care se întâmplă doar prin grația celor doi maeștri minunați\, Paramahamsa Vishwananda și Mahavatar Babaji. OM Chanting manifestă sunetul Divin OM și ne activează potențialul de autovindecare. Este un act de pādaseva-bhakti – un serviciu în numele binelui general\, în timpul căruia fiecare vibrație a sunetului ne ajută să intrăm în comuniune cu Divinul din interiorul nostru. \nAtunci când facem OM Chanting\, nu doar că ne vindecăm pe noi înșine\, dar contribuim și la crearea unui spațiu sacru\, care trezește divinitatea din jurul nostru – din oameni\, natură\, din tot ce ne înconjoară. \nBeneficii extraordinare: \n✔️ Vindecare fizică\, emoțională și spirituală \n✔️ Crearea unui câmp energetic de iubire ce se extinde pe 2 km \n✔️ Trezirea potențialului de autovindecare \n✔️ Conectarea cu Divinitatea din interiorul nostru \n✔️ Susținerea întregii comunități și a naturii \nTe invităm să trăiești această experiență unică și profund vindecătoare! Vino alături de noi pentru a simți puterea vibrațiilor divine și a experimenta o transformare în propria ta viață și în spațiul din jurul tău. Fiecare cerc de OM Chanting este o oportunitate de a cultiva  pacea interioară și de a întări conexiunea  cu Divinul. \nProfită de această ocazie rară de a trăi puterea vibrațiilor divine!
URL:https://bhaktimarga.ro/eveniment/om-chanting-centrul-bhakti-marga-sibiu-duminica/2026-01-18/
LOCATION:Centrul Bhakti Marga\, Sibiu\, Calea Cisnadie 50\, etaj 2\, Sibiu\, Sibiu\, Romania
CATEGORIES:OM Chanting
ATTACH;FMTTYPE=image/jpeg:https://bhaktimarga.ro/wp-content/uploads/2025/01/2OM-Chanting_eneric.jpg
ORGANIZER;CN="Rajenda Das":MAILTO:rajenda_das@bhaktimarga.ro
END:VEVENT
END:VCALENDAR