BEGIN:VCALENDAR
VERSION:2.0
PRODID:-//Bhakti Marga Romania - ECPv6.15.16//NONSGML v1.0//EN
CALSCALE:GREGORIAN
METHOD:PUBLISH
X-WR-CALNAME:Bhakti Marga Romania
X-ORIGINAL-URL:https://bhaktimarga.ro
X-WR-CALDESC:Evenimente pentru Bhakti Marga Romania
REFRESH-INTERVAL;VALUE=DURATION:PT1H
X-Robots-Tag:noindex
X-PUBLISHED-TTL:PT1H
BEGIN:VTIMEZONE
TZID:Europe/Bucharest
BEGIN:DAYLIGHT
TZOFFSETFROM:+0200
TZOFFSETTO:+0300
TZNAME:EEST
DTSTART:20250330T010000
END:DAYLIGHT
BEGIN:STANDARD
TZOFFSETFROM:+0300
TZOFFSETTO:+0200
TZNAME:EET
DTSTART:20251026T010000
END:STANDARD
BEGIN:DAYLIGHT
TZOFFSETFROM:+0200
TZOFFSETTO:+0300
TZNAME:EEST
DTSTART:20260329T010000
END:DAYLIGHT
BEGIN:STANDARD
TZOFFSETFROM:+0300
TZOFFSETTO:+0200
TZNAME:EET
DTSTART:20261025T010000
END:STANDARD
BEGIN:DAYLIGHT
TZOFFSETFROM:+0200
TZOFFSETTO:+0300
TZNAME:EEST
DTSTART:20270328T010000
END:DAYLIGHT
BEGIN:STANDARD
TZOFFSETFROM:+0300
TZOFFSETTO:+0200
TZNAME:EET
DTSTART:20271031T010000
END:STANDARD
END:VTIMEZONE
BEGIN:VEVENT
DTSTART;TZID=Europe/Bucharest:20260321T100000
DTEND;TZID=Europe/Bucharest:20260321T160000
DTSTAMP:20260215T091128
CREATED:20260118T192119Z
LAST-MODIFIED:20260118T192119Z
UID:10001508-1774087200-1774108800@bhaktimarga.ro
SUMMARY:Curs: Sri Yantra Meditation nivel 2 - 21 martie\, Sibiu
DESCRIPTION:✨ Conectează-te cu Energia Mamei Divine prin Sri Yantra!✨ \nSri Yantra nu este doar o formă geometrică sacră\, ci o modalitate profundă de a experimenta și înțelege prezența Mamei Divine în interiorul nostru. Este manifestarea Mamei în formă de Yantra\, un simbol al echilibrului și al armoniei universale. 🌸 \nMeditând asupra Sri Yantrei\, colorând sau pictând Sri Yantra\, te conectezi cu energia divină\, aceasta ridicându-ți vibrațiile interioare. Fiecare pas în această meditație te adâncește mai mult în starea de liniște și serenitate\, oferindu-ți posibilitatea de a experimenta o comuniune directă cu energia sacră a Mamei Divine. 🙏 \nMeditația prin colorare sau pictură asupra Sri Yantrei aduce beneficii multiple pentru cel ce o practica: \n🌿 Echilibru interior – Energiile masculine și feminine armonizează\, aducând echilibru în viața ta. \n🌸 Curățare și purificare – Sri Yantra te ajută să eliberezi blocajele energetice și să te purifici pe plan fizic\, mental și emoțional. \n💖 Creșterea spirituală – Practicarea Sri Yantra te înalță către o stare profundă de conștientizare și conexiune divină. \n✨ Experiența directă a iubirii Mamei Divine – Prin această practică\, vei avea ocazia să te conectezi cu iubirea necondiționată a Mamei\, care te susține în fiecare pas al călătoriei tale spirituale. \nTe invităm să te alături cursului de Sri Yantra invitând astfel pacea\, iubirea și armonia Mamei Divine  în viața ta. 🌟 \nTransformă-ți viața prin Sri Yantra – călătoria ta spirituală începe aici!
URL:https://bhaktimarga.ro/eveniment/curs-sri-yantra-meditation-nivel-2-21-martie-sibiu/
LOCATION:Centrul Bhakti Marga\, Sibiu\, Calea Cisnadie 50\, etaj 2\, Sibiu\, Sibiu\, Romania
CATEGORIES:Arte Devoționale,Sri Yantra
ATTACH;FMTTYPE=image/jpeg:https://bhaktimarga.ro/wp-content/uploads/2025/01/photo_2025-01-12-19.15.21.jpeg
ORGANIZER;CN="Sarvadeva Namaskrita Dasi":MAILTO:sarvadeva_namaskrita_dasi@bhaktimarga.ro
END:VEVENT
BEGIN:VEVENT
DTSTART;TZID=Europe/Bucharest:20260321T100000
DTEND;TZID=Europe/Bucharest:20260321T160000
DTSTAMP:20260215T091128
CREATED:20260202T105541Z
LAST-MODIFIED:20260202T105541Z
UID:10001515-1774087200-1774108800@bhaktimarga.ro
SUMMARY:Curs: Sri Yantra Meditation nivel 2 - 21 martie\, Sibiu
DESCRIPTION:✨ Conectează-te cu Energia Mamei Divine prin Sri Yantra!✨ \nSri Yantra nu este doar o formă geometrică sacră\, ci o modalitate profundă de a experimenta și înțelege prezența Mamei Divine în interiorul nostru. Este manifestarea Mamei în formă de Yantra\, un simbol al echilibrului și al armoniei universale. 🌸 \nMeditând asupra Sri Yantrei\, colorând sau pictând Sri Yantra\, te conectezi cu energia divină\, aceasta ridicându-ți vibrațiile interioare. Fiecare pas în această meditație te adâncește mai mult în starea de liniște și serenitate\, oferindu-ți posibilitatea de a experimenta o comuniune directă cu energia sacră a Mamei Divine. 🙏 \nMeditația prin colorare sau pictură asupra Sri Yantrei aduce beneficii multiple pentru cel ce o practica: \n🌿 Echilibru interior – Energiile masculine și feminine armonizează\, aducând echilibru în viața ta. \n🌸 Curățare și purificare – Sri Yantra te ajută să eliberezi blocajele energetice și să te purifici pe plan fizic\, mental și emoțional. \n💖 Creșterea spirituală – Practicarea Sri Yantra te înalță către o stare profundă de conștientizare și conexiune divină. \n✨ Experiența directă a iubirii Mamei Divine – Prin această practică\, vei avea ocazia să te conectezi cu iubirea necondiționată a Mamei\, care te susține în fiecare pas al călătoriei tale spirituale. \nTe invităm să te alături cursului de Sri Yantra invitând astfel pacea\, iubirea și armonia Mamei Divine  în viața ta. 🌟 \nTransformă-ți viața prin Sri Yantra – călătoria ta spirituală începe aici!
URL:https://bhaktimarga.ro/eveniment/curs-sri-yantra-meditation-nivel-2-21-martie-sibiu-2/
LOCATION:Centrul Bhakti Marga\, Sibiu\, Calea Cisnadie 50\, etaj 2\, Sibiu\, Sibiu\, Romania
CATEGORIES:Arte Devoționale,Sri Yantra
ATTACH;FMTTYPE=image/jpeg:https://bhaktimarga.ro/wp-content/uploads/2025/01/photo_2025-01-12-19.15.21.jpeg
ORGANIZER;CN="Sarvadeva Namaskrita Dasi":MAILTO:sarvadeva_namaskrita_dasi@bhaktimarga.ro
END:VEVENT
BEGIN:VEVENT
DTSTART;TZID=Europe/Bucharest:20260322T100000
DTEND;TZID=Europe/Bucharest:20260322T160000
DTSTAMP:20260215T091128
CREATED:20260118T192747Z
LAST-MODIFIED:20260118T192747Z
UID:10001509-1774173600-1774195200@bhaktimarga.ro
SUMMARY:Curs: Sri Yantra Constructie nivel 3 - 22 martie\, Sibiu
DESCRIPTION:✨ Conectează-te cu Energia Mamei Divine prin Sri Yantra!✨ \nSri Yantra nu este doar o formă geometrică sacră\, ci o modalitate profundă de a experimenta și înțelege prezența Mamei Divine în interiorul nostru. Este manifestarea Mamei în formă de Yantra\, un simbol al echilibrului și al armoniei universale. 🌸 \nMeditând asupra Sri Yantrei\, colorând sau pictând Sri Yantra\, te conectezi cu energia divină\, aceasta ridicându-ți vibrațiile interioare. Fiecare pas în această meditație te adâncește mai mult în starea de liniște și serenitate\, oferindu-ți posibilitatea de a experimenta o comuniune directă cu energia sacră a Mamei Divine. 🙏 \nMeditația prin colorare sau pictură asupra Sri Yantrei aduce beneficii multiple pentru cel ce o practica: \n🌿 Echilibru interior – Energiile masculine și feminine armonizează\, aducând echilibru în viața ta. \n🌸 Curățare și purificare – Sri Yantra te ajută să eliberezi blocajele energetice și să te purifici pe plan fizic\, mental și emoțional. \n💖 Creșterea spirituală – Practicarea Sri Yantra te înalță către o stare profundă de conștientizare și conexiune divină. \n✨ Experiența directă a iubirii Mamei Divine – Prin această practică\, vei avea ocazia să te conectezi cu iubirea necondiționată a Mamei\, care te susține în fiecare pas al călătoriei tale spirituale. \nTe invităm să te alături cursului de Sri Yantra invitând astfel pacea\, iubirea și armonia Mamei Divine  în viața ta. 🌟 \nTransformă-ți viața prin Sri Yantra – călătoria ta spirituală începe aici!
URL:https://bhaktimarga.ro/eveniment/curs-sri-yantra-constructie-nivel-3-22-martie-sibiu/
LOCATION:Centrul Bhakti Marga\, Sibiu\, Calea Cisnadie 50\, etaj 2\, Sibiu\, Sibiu\, Romania
CATEGORIES:Arte Devoționale,Sri Yantra
ATTACH;FMTTYPE=image/jpeg:https://bhaktimarga.ro/wp-content/uploads/2025/01/photo_2025-01-12-19.15.21.jpeg
ORGANIZER;CN="Sarvadeva Namaskrita Dasi":MAILTO:sarvadeva_namaskrita_dasi@bhaktimarga.ro
END:VEVENT
BEGIN:VEVENT
DTSTART;TZID=Europe/Bucharest:20260418T170000
DTEND;TZID=Europe/Bucharest:20260418T200000
DTSTAMP:20260215T091128
CREATED:20260203T085818Z
LAST-MODIFIED:20260206T102141Z
UID:10001517-1776531600-1776542400@bhaktimarga.ro
SUMMARY:Curs Harmonium - 18 Aprilie Sibiu
DESCRIPTION:✨Curs de Harmonium pentru Începători✨ \n♥️ Descoperă sunetul inimii prin muzica devoțională.\nHarmoniumul este mai mult decât un instrument – este o poartă către exprimarea interioară\, către rugăciunea cântată și către bucuria de a fi în comuniune cu Divinul prin muzică. \n🎶 Te invităm la un atelier dedicat începătorilor\, unde vei învăța noțiunile de bază pentru a cânta la harmonium și pentru a susține simple bhajane și mantre. Nu este necesară experiență muzicală – doar dorința sinceră de a te conecta cu muzica sacră. \nDe ce să participi?\n• Vei învăța elemente esențiale pentru acompaniamentul vocal pe harmonium\n• Vei înțelege cum să folosești instrumentul în practica ta spirituală\n• Vei fi introdus într-o tradiție vie\, plină de devoțiune\, susținută de Bhakti Marga. \n❤ Muzica are puterea de a ne transporta din minte în inimă\, indiferent dacă urmezi o cale spirituală sau nu… Deoarece muzica este limbajul lui Dumnezeu. ❤ \nParamahamsa Sri Swami Vishwananda
URL:https://bhaktimarga.ro/eveniment/curs-harmonium-18-aprilie-sibiu-2/
LOCATION:Centrul Bhakti Marga\, Sibiu\, Calea Cisnadie 50\, etaj 2\, Sibiu\, Sibiu\, Romania
CATEGORIES:Arte Devoționale,Muzica
ATTACH;FMTTYPE=image/jpeg:https://bhaktimarga.ro/wp-content/uploads/2024/02/curs-harmonium-1.jpg
ORGANIZER;CN="Janaknandini Dasi":MAILTO:aida.petrea@bhaktimarga.ro
END:VEVENT
END:VCALENDAR