BEGIN:VCALENDAR
VERSION:2.0
PRODID:-//Bhakti Marga Romania - ECPv6.15.20//NONSGML v1.0//EN
CALSCALE:GREGORIAN
METHOD:PUBLISH
X-ORIGINAL-URL:https://bhaktimarga.ro
X-WR-CALDESC:Evenimente pentru Bhakti Marga Romania
REFRESH-INTERVAL;VALUE=DURATION:PT1H
X-Robots-Tag:noindex
X-PUBLISHED-TTL:PT1H
BEGIN:VTIMEZONE
TZID:Europe/Bucharest
BEGIN:DAYLIGHT
TZOFFSETFROM:+0200
TZOFFSETTO:+0300
TZNAME:EEST
DTSTART:20250330T010000
END:DAYLIGHT
BEGIN:STANDARD
TZOFFSETFROM:+0300
TZOFFSETTO:+0200
TZNAME:EET
DTSTART:20251026T010000
END:STANDARD
BEGIN:DAYLIGHT
TZOFFSETFROM:+0200
TZOFFSETTO:+0300
TZNAME:EEST
DTSTART:20260329T010000
END:DAYLIGHT
BEGIN:STANDARD
TZOFFSETFROM:+0300
TZOFFSETTO:+0200
TZNAME:EET
DTSTART:20261025T010000
END:STANDARD
BEGIN:DAYLIGHT
TZOFFSETFROM:+0200
TZOFFSETTO:+0300
TZNAME:EEST
DTSTART:20270328T010000
END:DAYLIGHT
BEGIN:STANDARD
TZOFFSETFROM:+0300
TZOFFSETTO:+0200
TZNAME:EET
DTSTART:20271031T010000
END:STANDARD
END:VTIMEZONE
BEGIN:VEVENT
DTSTART;TZID=Europe/Bucharest:20260317T180000
DTEND;TZID=Europe/Bucharest:20260317T210000
DTSTAMP:20260423T183322
CREATED:20260305T153818Z
LAST-MODIFIED:20260305T161945Z
UID:10001531-1773770400-1773781200@bhaktimarga.ro
SUMMARY:Beyond the mind - 17 martie 2026
DESCRIPTION:✨Beyond the Mind – Când mintea caută liniștea\, sufletul știe unde să o găsească! …pe 17 martie\, în centrul Bhakti Marga Sibiu. \nMintea ta este mereu în căutare – de răspunsuri\, de liniște\, de un moment de respiro. Pune pe pauză agitația zilnică și lasă sunetele divine să te ghideze spre adevărata pace. Kirtan-ul și OM Chanting-ul nu sunt doar practici\, ci porți către o stare de armonie profundă. \n🎶 Lasă muzica să îți aline mintea și să îți deschidă inima! Reconectează-te cu inima ta prin sunete pline de iubire! \nExperimentează alături de noi beneficiile Kirtan-ului și cele ale tehnicii de OM Chanting. \n🔥Kirtan-ul nu este doar o simplă cântare\, ci o invitație de a simți și trăi prezența divină. Prin mantrele sacre\, mintea se liniștește\, inima se deschide\, iar sufletul intră în armonie cu energia iubirii pure. Este un moment unic în care fiecare voce\, fiecare bătaie a tobei și fiecare notă muzicală creează un spațiu sacru de devoțiune\, transformare și bucurie. \nVino să experimentezi magia Kirtan-ului\, să te lași purtat de sunetele divine și să simți cum muzica devine o rugăciune a inimii! ❤️(începe la ora 18:00) \n🕉 OM Chanting – vibrația esențială (începe la ora 19:30) \nEste o practică străveche de grup\, care te ajută să găsești în interiorul tău soluția tuturor problemelor cu care te confrunți. OM Chanting susține pacea interioară\, claritatea mentală și starea de bine atât la nivel emoțional cât și fizic. OM Chanting generează o frecvență vibrațională care eliberează negativitatea și o transformă în energie pozitivă\, activându-se astfel potențialul de auto-vindecare al participanților. \nIntrodusă inițial de vechii rishis din India acum 5000 de ani\, OM Chanting-ul reprezenta principala practică de vindecare. În prezent avem parte de beneficiile acestei minunate tehnici datorită harului a doi mari maeștri spirituali: Mahavatar Babaji și Paramahamsa Vishwananda. \nVom închide evenimentul cu un satsang oferit de Pandit Badrinath das\, un moment de împartașire autentica. Vino și tu să îți iei doza de inspirație! \nTe așteptăm cu drag! 🤗🙏\nEvenimentul se deschide începând cu ora 17:30.\nIntrarea este gratuită\, iar donațiile sunt întotdeauna binevenite pentru a susține activitatea în continuare 🙏.
URL:https://bhaktimarga.ro/eveniment/beyond-the-mind-17-martie-2026/
LOCATION:Centrul Bhakti Marga\, Sibiu\, Calea Cisnadie 50\, etaj 2\, Sibiu\, Sibiu\, Romania
CATEGORIES:Sangha
ATTACH;FMTTYPE=image/jpeg:https://bhaktimarga.ro/wp-content/uploads/2026/03/Insta.-FB_1080x1350-FB_BTM_sibiu-fara-tilak.jpg
ORGANIZER;CN="Janaknandini Dasi":MAILTO:aida.petrea@bhaktimarga.ro
END:VEVENT
BEGIN:VEVENT
DTSTART;TZID=Europe/Bucharest:20260330T190000
DTEND;TZID=Europe/Bucharest:20260330T213000
DTSTAMP:20260423T183322
CREATED:20260318T192850Z
LAST-MODIFIED:20260318T192850Z
UID:10001546-1774897200-1774906200@bhaktimarga.ro
SUMMARY:Satsang și kirtan cu Swami Kurunandha - martie 2026
DESCRIPTION:Te invităm cu drag la o seară plină de prezență și conectare\, alături de Swami Kurunandha. O ocazie de a ne readuce împreună prin mantre și împărtășirea învățăturilor vedice.\nDe peste 25 de ani\, el este alături de Paramahamsa Vishwananda\, împărtășind învățăturile Lui într-un mod direct\, viu și ușor de integrat în viața de zi cu zi. \nAceste întâlniri deschid un spațiu în care înțelepciunea vedică nu este doar ascultată\, ci devine un punct de plecare pentru reflecție\, întrebări și pentru a o aduce în propria viață.\nToată lumea este binevenită!\nEvenimentele sunt gratuite! 🙏\nDonațiile sunt mereu binevenite pentru susținerea activităților pe viitor. \n💫 19:00 – Kirtan\n💫 20:00 – Satsang cu Swami Kurunandha – inspirație\, dialog și conectare \nVino să petrecem această seară specială împreună\, în Sangha!
URL:https://bhaktimarga.ro/eveniment/satsang-si-kirtan-cu-swami-kurunandha-martie-2026/
LOCATION:Centrul Bhakti Marga București\, Strada Tunari 85\, Bucuresti\, Sector 2\, 020528\, Romania
CATEGORIES:Sangha
ATTACH;FMTTYPE=image/webp:https://bhaktimarga.ro/wp-content/uploads/2025/07/MVIMG_20250711_151211.webp
ORGANIZER;CN="Dandini Dasi - Adriana Com%C4%83neci":MAILTO:adriana.comaneci@bhaktimarga.ro
END:VEVENT
BEGIN:VEVENT
DTSTART;TZID=Europe/Bucharest:20260331T190000
DTEND;TZID=Europe/Bucharest:20260331T213000
DTSTAMP:20260423T183322
CREATED:20260318T193811Z
LAST-MODIFIED:20260318T194317Z
UID:10001547-1774983600-1774992600@bhaktimarga.ro
SUMMARY:Satsang și kirtan cu Swami Kurunandha - 31 martie 2026
DESCRIPTION:Te invităm cu drag la o a doua seară plină de prezență și conectare\, alături de Swami Kurunandha. O ocazie de a ne readuce împreună prin mantre și împărtășirea învățăturilor vedice.\nDe peste 25 de ani\, el este alături de Paramahamsa Vishwananda\, împărtășind învățăturile Lui într-un mod direct\, viu și ușor de integrat în viața de zi cu zi. \nAceste întâlniri deschid un spațiu în care înțelepciunea vedică nu este doar ascultată\, ci devine un punct de plecare pentru reflecție\, întrebări și pentru a o aduce în propria viață.\nToată lumea este binevenită!\nEvenimentele sunt gratuite! 🙏\nDonațiile sunt mereu binevenite pentru susținerea activităților pe viitor. \n💫 19:00 – Kirtan\n💫 20:00 – Satsang cu Swami Kurunandha – inspirație\, dialog și conectare \nVino să petrecem această seară specială împreună\, în Sangha!
URL:https://bhaktimarga.ro/eveniment/satsang-si-kirtan-cu-swami-kurunandha-martie-2026-2/
LOCATION:Centrul Bhakti Marga București\, Strada Tunari 85\, Bucuresti\, Sector 2\, 020528\, Romania
CATEGORIES:Sangha
ATTACH;FMTTYPE=image/webp:https://bhaktimarga.ro/wp-content/uploads/2025/07/MVIMG_20250711_151211.webp
ORGANIZER;CN="Dandini Dasi - Adriana Com%C4%83neci":MAILTO:adriana.comaneci@bhaktimarga.ro
END:VEVENT
BEGIN:VEVENT
DTSTART;TZID=Europe/Bucharest:20260401T180000
DTEND;TZID=Europe/Bucharest:20260401T210000
DTSTAMP:20260423T183322
CREATED:20260318T201057Z
LAST-MODIFIED:20260327T062531Z
UID:10001549-1775066400-1775077200@bhaktimarga.ro
SUMMARY:Două cărți. O singură experiență. Lansare Bhagavad Gita și Just Love\, Brașov
DESCRIPTION:Într-o lume în care căutăm mereu succes\, siguranță și răspunsuri rapide\, două cărți vin să ne amintească de adevărul simplu și profund: iubirea și înțelepciunea inimii. \n📖 Bhagavad Gītā – esența\, cu comentariile lui Paramahamsa Vishwananda – reprezintă călătoria cunoașterii\, răspunsul la dilemele vieții și ghidare pe drumul confruntărilor interioare.\n📖 Just Love – este revelația simplă și supremă a acestei călătorii\, iubirea\, descoperita cu ajutorul povestilor inspirationale. \nBhagavad Gītā ne dă răspunsuri la întrebări fundamentale: Cine sunt eu? Ce rost are viața mea pe acest pământ? De ce există suferința și ce înseamnă pacea adevărată? Comentariile lui Paramahamsa Vishwananda aduc lumina acestor învățături în inima noastră\, pentru vremuri ca acestea\, pline de neliniște și întrebări. \nÎn Just Love\, Paramahamsa Vishwananda ne conduce într-o călătorie simplă\, dar profundă: spre redescoperirea Adevărului din inimă. Căutăm succesul\, confortul\, relații perfecte — dar ceea ce sufletul tânjește cu adevărat nu se găsește în exterior\, ci în iubirea care transformă tot ce suntem. \nÎmpreună\, Just Love și Bhagavad Gītā (ediția a doua revizuită) sunt mai mult decat două cărți: sunt invitația de a te opri\, de a te întreba\, și de a descoperi că răspunsurile stau în iubire\, nu doar simțită\, ci reală\, vie\, prezentă în fiecare zi. \n🌿 Pe 1 aprilie (nu este o păcăleală :)) ora 18:00\, te invităm la lansarea acestor două cărți speciale\, în limba română\, la Brașov.\nInvitatul nostru\, Swami Kurunandha\, discipol direct al lui Paramahamsa Vishwananda și călugăr hindus\, va împărtăși cum putem aduce în viața noastră de zi cu zi înțelepciunea acestor texte sacre\, pentru mai multă claritate\, inspirație și transformare personală. \nToată lumea este binevenită! Eveniment gratuit! Donațiile sunt binevenite susținând continuarea activităților în viitor. \nAdresa: Strada 15 Noiembrie nr 80 Bloc C 24\,sediul ATCOM (lângă AFI\,în gang-intrarea către subsol).
URL:https://bhaktimarga.ro/eveniment/doua-carti-o-singura-experienta-lansare-bhagavad-gita-si-just-love-brasov-2/
LOCATION:Brasov
CATEGORIES:Cunoaștere,Sangha
ATTACH;FMTTYPE=image/jpeg:https://bhaktimarga.ro/wp-content/uploads/2026/03/photo_2026-03-18_22-07-02.jpg
ORGANIZER;CN="Dandini Dasi - Adriana Com%C4%83neci":MAILTO:adriana.comaneci@bhaktimarga.ro
END:VEVENT
BEGIN:VEVENT
DTSTART;TZID=Europe/Bucharest:20260402T180000
DTEND;TZID=Europe/Bucharest:20260402T210000
DTSTAMP:20260423T183322
CREATED:20260318T194821Z
LAST-MODIFIED:20260318T203349Z
UID:10001548-1775152800-1775163600@bhaktimarga.ro
SUMMARY:Satsang și kirtan cu Swami Kurunandha - Sibiu 2 aprilie 2026
DESCRIPTION:Te invităm cu drag la o seară plină de prezență și conectare\, alături de Swami Kurunandha. O ocazie de a ne readuce împreună prin mantre și împărtășirea învățăturilor vedice.\nDe peste 25 de ani\, el este alături de Paramahamsa Vishwananda\, împărtășind învățăturile Lui într-un mod direct\, viu și ușor de integrat în viața de zi cu zi. \nAceste întâlniri deschid un spațiu în care înțelepciunea vedică nu este doar ascultată\, ci devine un punct de plecare pentru reflecție\, întrebări și pentru a o aduce în propria viață.\nToată lumea este binevenită!\nEvenimentele sunt gratuite! 🙏\nDonațiile sunt mereu binevenite pentru susținerea activităților pe viitor. \nVino să petrecem această seară specială împreună\, în Sangha!
URL:https://bhaktimarga.ro/eveniment/satsang-si-kirtan-cu-swami-kurunandha-sibiu-aprilie-2026/
LOCATION:Centrul Bhakti Marga\, Sibiu\, Calea Cisnadie 50\, etaj 2\, Sibiu\, Sibiu\, Romania
CATEGORIES:Sangha
ATTACH;FMTTYPE=image/webp:https://bhaktimarga.ro/wp-content/uploads/2025/07/MVIMG_20250711_151211.webp
ORGANIZER;CN="Harini Dasi":MAILTO:harinidasi@bhaktimarga.ro
END:VEVENT
END:VCALENDAR