BEGIN:VCALENDAR
VERSION:2.0
PRODID:-//Bhakti Marga Romania - ECPv6.15.20//NONSGML v1.0//EN
CALSCALE:GREGORIAN
METHOD:PUBLISH
X-WR-CALNAME:Bhakti Marga Romania
X-ORIGINAL-URL:https://bhaktimarga.ro
X-WR-CALDESC:Evenimente pentru Bhakti Marga Romania
REFRESH-INTERVAL;VALUE=DURATION:PT1H
X-Robots-Tag:noindex
X-PUBLISHED-TTL:PT1H
BEGIN:VTIMEZONE
TZID:Europe/Bucharest
BEGIN:DAYLIGHT
TZOFFSETFROM:+0200
TZOFFSETTO:+0300
TZNAME:EEST
DTSTART:20250330T010000
END:DAYLIGHT
BEGIN:STANDARD
TZOFFSETFROM:+0300
TZOFFSETTO:+0200
TZNAME:EET
DTSTART:20251026T010000
END:STANDARD
BEGIN:DAYLIGHT
TZOFFSETFROM:+0200
TZOFFSETTO:+0300
TZNAME:EEST
DTSTART:20260329T010000
END:DAYLIGHT
BEGIN:STANDARD
TZOFFSETFROM:+0300
TZOFFSETTO:+0200
TZNAME:EET
DTSTART:20261025T010000
END:STANDARD
BEGIN:DAYLIGHT
TZOFFSETFROM:+0200
TZOFFSETTO:+0300
TZNAME:EEST
DTSTART:20270328T010000
END:DAYLIGHT
BEGIN:STANDARD
TZOFFSETFROM:+0300
TZOFFSETTO:+0200
TZNAME:EET
DTSTART:20271031T010000
END:STANDARD
END:VTIMEZONE
BEGIN:VEVENT
DTSTART;TZID=Europe/Bucharest:20260317T180000
DTEND;TZID=Europe/Bucharest:20260317T210000
DTSTAMP:20260421T113332
CREATED:20260305T153818Z
LAST-MODIFIED:20260305T161945Z
UID:10001531-1773770400-1773781200@bhaktimarga.ro
SUMMARY:Beyond the mind - 17 martie 2026
DESCRIPTION:✨Beyond the Mind – Când mintea caută liniștea\, sufletul știe unde să o găsească! …pe 17 martie\, în centrul Bhakti Marga Sibiu. \nMintea ta este mereu în căutare – de răspunsuri\, de liniște\, de un moment de respiro. Pune pe pauză agitația zilnică și lasă sunetele divine să te ghideze spre adevărata pace. Kirtan-ul și OM Chanting-ul nu sunt doar practici\, ci porți către o stare de armonie profundă. \n🎶 Lasă muzica să îți aline mintea și să îți deschidă inima! Reconectează-te cu inima ta prin sunete pline de iubire! \nExperimentează alături de noi beneficiile Kirtan-ului și cele ale tehnicii de OM Chanting. \n🔥Kirtan-ul nu este doar o simplă cântare\, ci o invitație de a simți și trăi prezența divină. Prin mantrele sacre\, mintea se liniștește\, inima se deschide\, iar sufletul intră în armonie cu energia iubirii pure. Este un moment unic în care fiecare voce\, fiecare bătaie a tobei și fiecare notă muzicală creează un spațiu sacru de devoțiune\, transformare și bucurie. \nVino să experimentezi magia Kirtan-ului\, să te lași purtat de sunetele divine și să simți cum muzica devine o rugăciune a inimii! ❤️(începe la ora 18:00) \n🕉 OM Chanting – vibrația esențială (începe la ora 19:30) \nEste o practică străveche de grup\, care te ajută să găsești în interiorul tău soluția tuturor problemelor cu care te confrunți. OM Chanting susține pacea interioară\, claritatea mentală și starea de bine atât la nivel emoțional cât și fizic. OM Chanting generează o frecvență vibrațională care eliberează negativitatea și o transformă în energie pozitivă\, activându-se astfel potențialul de auto-vindecare al participanților. \nIntrodusă inițial de vechii rishis din India acum 5000 de ani\, OM Chanting-ul reprezenta principala practică de vindecare. În prezent avem parte de beneficiile acestei minunate tehnici datorită harului a doi mari maeștri spirituali: Mahavatar Babaji și Paramahamsa Vishwananda. \nVom închide evenimentul cu un satsang oferit de Pandit Badrinath das\, un moment de împartașire autentica. Vino și tu să îți iei doza de inspirație! \nTe așteptăm cu drag! 🤗🙏\nEvenimentul se deschide începând cu ora 17:30.\nIntrarea este gratuită\, iar donațiile sunt întotdeauna binevenite pentru a susține activitatea în continuare 🙏.
URL:https://bhaktimarga.ro/eveniment/beyond-the-mind-17-martie-2026/
LOCATION:Centrul Bhakti Marga\, Sibiu\, Calea Cisnadie 50\, etaj 2\, Sibiu\, Sibiu\, Romania
CATEGORIES:Sangha
ATTACH;FMTTYPE=image/jpeg:https://bhaktimarga.ro/wp-content/uploads/2026/03/Insta.-FB_1080x1350-FB_BTM_sibiu-fara-tilak.jpg
ORGANIZER;CN="Janaknandini Dasi":MAILTO:aida.petrea@bhaktimarga.ro
END:VEVENT
END:VCALENDAR