BEGIN:VCALENDAR
VERSION:2.0
PRODID:-//Bhakti Marga Romania - ECPv6.15.20//NONSGML v1.0//EN
CALSCALE:GREGORIAN
METHOD:PUBLISH
X-ORIGINAL-URL:https://bhaktimarga.ro
X-WR-CALDESC:Evenimente pentru Bhakti Marga Romania
REFRESH-INTERVAL;VALUE=DURATION:PT1H
X-Robots-Tag:noindex
X-PUBLISHED-TTL:PT1H
BEGIN:VTIMEZONE
TZID:Europe/Bucharest
BEGIN:DAYLIGHT
TZOFFSETFROM:+0200
TZOFFSETTO:+0300
TZNAME:EEST
DTSTART:20240331T010000
END:DAYLIGHT
BEGIN:STANDARD
TZOFFSETFROM:+0300
TZOFFSETTO:+0200
TZNAME:EET
DTSTART:20241027T010000
END:STANDARD
BEGIN:DAYLIGHT
TZOFFSETFROM:+0200
TZOFFSETTO:+0300
TZNAME:EEST
DTSTART:20250330T010000
END:DAYLIGHT
BEGIN:STANDARD
TZOFFSETFROM:+0300
TZOFFSETTO:+0200
TZNAME:EET
DTSTART:20251026T010000
END:STANDARD
BEGIN:DAYLIGHT
TZOFFSETFROM:+0200
TZOFFSETTO:+0300
TZNAME:EEST
DTSTART:20260329T010000
END:DAYLIGHT
BEGIN:STANDARD
TZOFFSETFROM:+0300
TZOFFSETTO:+0200
TZNAME:EET
DTSTART:20261025T010000
END:STANDARD
END:VTIMEZONE
BEGIN:VEVENT
DTSTART;TZID=Europe/Bucharest:20251031T200000
DTEND;TZID=Europe/Bucharest:20251031T210000
DTSTAMP:20260424T113505
CREATED:20251027T093557Z
LAST-MODIFIED:20251027T093907Z
UID:10001480-1761940800-1761944400@bhaktimarga.ro
SUMMARY:Karma – Înțelege-ți atașamentele și acționează pentru a te elibera de ele
DESCRIPTION:Descoperă înțelepciunea vedică într-un mod modern și aplicat. Află în această sesiune de cunoaștere cum atașamentele creează karma și cum poți întrerupe acest ciclu. Prin acțiuni conștiente și îndrumarea unui maestru autentic\, poți obține claritate și libertate interioară pentru a-ți transforma viața. \nParamahamsa Vishwananda este un astfel de Maestru care ne poate ghida spre dizolvarea atașamentelor ce ne împiedică să evoluăm și ne ajută să descoperim iubirea divină și să o trăim în viața de zi cu zi. \nParamahamsa Vishwananda va veni la București pe 6 decembrie\, în cadrul AtmaFest 2025 (apasă pe acest link pentru mai multe informații). \nVino să-L cunoști și să experimentezi direct prezența și înțelepciunea Sa! \nParticiparea este gratuită\, iar cei care se înscriu vor primi pe e-mail link-ul de Zoom pentru conectare.
URL:https://bhaktimarga.ro/eveniment/karma-intelege-ti-atasamentele-si-actioneaza-pentru-a-te-elibera-de-ele/
CATEGORIES:Cunoaștere
ATTACH;FMTTYPE=image/jpeg:https://bhaktimarga.ro/wp-content/uploads/2025/10/VrishaKapi-Curs-Karma.jpg
LOCATION:https://bhaktimarga.ro/eveniment/karma-intelege-ti-atasamentele-si-actioneaza-pentru-a-te-elibera-de-ele/
END:VEVENT
END:VCALENDAR