BEGIN:VCALENDAR
VERSION:2.0
PRODID:-//Bhakti Marga Romania - ECPv6.15.20//NONSGML v1.0//EN
CALSCALE:GREGORIAN
METHOD:PUBLISH
X-WR-CALNAME:Bhakti Marga Romania
X-ORIGINAL-URL:https://bhaktimarga.ro
X-WR-CALDESC:Evenimente pentru Bhakti Marga Romania
REFRESH-INTERVAL;VALUE=DURATION:PT1H
X-Robots-Tag:noindex
X-PUBLISHED-TTL:PT1H
BEGIN:VTIMEZONE
TZID:Europe/Bucharest
BEGIN:DAYLIGHT
TZOFFSETFROM:+0200
TZOFFSETTO:+0300
TZNAME:EEST
DTSTART:20240331T010000
END:DAYLIGHT
BEGIN:STANDARD
TZOFFSETFROM:+0300
TZOFFSETTO:+0200
TZNAME:EET
DTSTART:20241027T010000
END:STANDARD
BEGIN:DAYLIGHT
TZOFFSETFROM:+0200
TZOFFSETTO:+0300
TZNAME:EEST
DTSTART:20250330T010000
END:DAYLIGHT
BEGIN:STANDARD
TZOFFSETFROM:+0300
TZOFFSETTO:+0200
TZNAME:EET
DTSTART:20251026T010000
END:STANDARD
BEGIN:DAYLIGHT
TZOFFSETFROM:+0200
TZOFFSETTO:+0300
TZNAME:EEST
DTSTART:20260329T010000
END:DAYLIGHT
BEGIN:STANDARD
TZOFFSETFROM:+0300
TZOFFSETTO:+0200
TZNAME:EET
DTSTART:20261025T010000
END:STANDARD
END:VTIMEZONE
BEGIN:VEVENT
DTSTART;TZID=Europe/Bucharest:20250818T200000
DTEND;TZID=Europe/Bucharest:20250818T210000
DTSTAMP:20260423T142615
CREATED:20250814T193357Z
LAST-MODIFIED:20250815T061357Z
UID:737646-1755547200-1755550800@bhaktimarga.ro
SUMMARY:Workshop de introducere în cursurile de Ritualuri – 18 august 2025
DESCRIPTION:Ritualurile și ceremoniile nu sunt doar tradiții frumoase – ele sunt chei sacre care hrănesc și susțin armonia lumii. Prin vibrația lor\, natura\, oamenii și tot ceea ce există primesc energie și echilibru. \nEle sunt\, totodată\, un mod prin care poți experimenta prezența vie a lui Dumnezeu și poți construi o relație autentică și personală cu El\, în mijlocul vieții tale de zi cu zi. \nÎn aceast workshop introductiv vei descoperi: \n🌸 ce înseamnă cu adevărat un ritual \n🌸 de ce el este important pentru bunăstarea sufletului tău și a lumii \n🌸 cum poate deveni o parte vie din viața ta de zi cu zi \n🌸 cum aceste practici pot transforma modul în care te raportezi la Divin \nAceastă întâlnire este o introducere în Cursul de Ritualuri ce va avea loc în curând – o ocazie de a înțelege fundamentele\, de a pune întrebări și de a te conecta cu profunzimea acestor practici sacre\, transmise din înțelepciunea vedică.
URL:https://bhaktimarga.ro/eveniment/workshop-de-introducere-in-cursurile-de-ritualuri-18-august-2025/
CATEGORIES:Ritualuri
ATTACH;FMTTYPE=image/jpeg:https://bhaktimarga.ro/wp-content/uploads/2025/08/photo_2025-08-15-08.44.43.jpeg
LOCATION:https://us06web.zoom.us/j/82130227976
END:VEVENT
END:VCALENDAR