BEGIN:VCALENDAR
VERSION:2.0
PRODID:-//Bhakti Marga Romania - ECPv6.15.20//NONSGML v1.0//EN
CALSCALE:GREGORIAN
METHOD:PUBLISH
X-WR-CALNAME:Bhakti Marga Romania
X-ORIGINAL-URL:https://bhaktimarga.ro
X-WR-CALDESC:Evenimente pentru Bhakti Marga Romania
REFRESH-INTERVAL;VALUE=DURATION:PT1H
X-Robots-Tag:noindex
X-PUBLISHED-TTL:PT1H
BEGIN:VTIMEZONE
TZID:Europe/Bucharest
BEGIN:DAYLIGHT
TZOFFSETFROM:+0200
TZOFFSETTO:+0300
TZNAME:EEST
DTSTART:20240331T010000
END:DAYLIGHT
BEGIN:STANDARD
TZOFFSETFROM:+0300
TZOFFSETTO:+0200
TZNAME:EET
DTSTART:20241027T010000
END:STANDARD
BEGIN:DAYLIGHT
TZOFFSETFROM:+0200
TZOFFSETTO:+0300
TZNAME:EEST
DTSTART:20250330T010000
END:DAYLIGHT
BEGIN:STANDARD
TZOFFSETFROM:+0300
TZOFFSETTO:+0200
TZNAME:EET
DTSTART:20251026T010000
END:STANDARD
BEGIN:DAYLIGHT
TZOFFSETFROM:+0200
TZOFFSETTO:+0300
TZNAME:EEST
DTSTART:20260329T010000
END:DAYLIGHT
BEGIN:STANDARD
TZOFFSETFROM:+0300
TZOFFSETTO:+0200
TZNAME:EET
DTSTART:20261025T010000
END:STANDARD
END:VTIMEZONE
BEGIN:VEVENT
DTSTART;TZID=Europe/Bucharest:20251107T200000
DTEND;TZID=Europe/Bucharest:20251107T210000
DTSTAMP:20260421T130818
CREATED:20251101T073304Z
LAST-MODIFIED:20251101T074937Z
UID:738895-1762545600-1762549200@bhaktimarga.ro
SUMMARY:Puterea mantrei în viața de zi cu zi
DESCRIPTION:Descoperă energia transformatoare a mantrei \n\nSri Vitthala Giridhari Parabrahmane Namaha \n\nCuvintele rostite cu devoțiune au o putere profundă. Ele pot deschide inima\, pot liniști mintea și pot transforma întreaga noastră percepție asupra vieții. Mantrele sunt vibrații sacre care ne reconectează cu sursa divină a ființei și trezesc în noi pacea\, bucuria și claritatea interioară. \nÎn această sesiune specială vei descoperi: \n✨ Ce este o mantră și cum acționează energia ei subtilă asupra conștiinței; \n✨ Cum practica recitării mantrei poate aduce echilibru\, claritate și inspirație în viața de zi cu zi; \n✨ Modalități simple de a integra mantra în activitățile tale zilnice\, pentru a transforma fiecare moment într-un act de prezență și devoțiune. \n  \nParamahamsa Vishwananda este Maestrul care a oferit această mantră lumii\, pentru a ne susține să descoperim iubirea divină și să o trăim în viața de zi cu zi. \nParamahamsa Vishwananda va veni la București pe 6 decembrie\, în cadrul AtmaFest 2025 (apasă pe acest link pentru mai multe informații).\nVino să-L cunoști și să experimentezi direct prezența și înțelepciunea Sa! \n\nFiecare participant va primi linkul de conectare pe Zoom prin e-mail\, după înscriere.\nParticiparea este gratuită. Tot ce ai nevoie este deschiderea inimii și dorința sinceră de a evolua spiritual.
URL:https://bhaktimarga.ro/eveniment/puterea-mantrei-in-viata-de-zi-cu-zi/
CATEGORIES:Cunoaștere
ATTACH;FMTTYPE=image/jpeg:https://bhaktimarga.ro/wp-content/uploads/2025/11/Mantra-Curs.jpg
ORGANIZER;CN="Vrindavana Ishvara Dasi":MAILTO:vrindavana@bhaktimarga.ro
LOCATION:https://bhaktimarga.ro/eveniment/puterea-mantrei-in-viata-de-zi-cu-zi/
END:VEVENT
END:VCALENDAR