BEGIN:VCALENDAR
VERSION:2.0
PRODID:-//Bhakti Marga Romania - ECPv6.15.20//NONSGML v1.0//EN
CALSCALE:GREGORIAN
METHOD:PUBLISH
X-WR-CALNAME:Bhakti Marga Romania
X-ORIGINAL-URL:https://bhaktimarga.ro
X-WR-CALDESC:Evenimente pentru Bhakti Marga Romania
REFRESH-INTERVAL;VALUE=DURATION:PT1H
X-Robots-Tag:noindex
X-PUBLISHED-TTL:PT1H
BEGIN:VTIMEZONE
TZID:Europe/Bucharest
BEGIN:DAYLIGHT
TZOFFSETFROM:+0200
TZOFFSETTO:+0300
TZNAME:EEST
DTSTART:20220327T010000
END:DAYLIGHT
BEGIN:STANDARD
TZOFFSETFROM:+0300
TZOFFSETTO:+0200
TZNAME:EET
DTSTART:20221030T010000
END:STANDARD
BEGIN:DAYLIGHT
TZOFFSETFROM:+0200
TZOFFSETTO:+0300
TZNAME:EEST
DTSTART:20230326T010000
END:DAYLIGHT
BEGIN:STANDARD
TZOFFSETFROM:+0300
TZOFFSETTO:+0200
TZNAME:EET
DTSTART:20231029T010000
END:STANDARD
BEGIN:DAYLIGHT
TZOFFSETFROM:+0200
TZOFFSETTO:+0300
TZNAME:EEST
DTSTART:20240331T010000
END:DAYLIGHT
BEGIN:STANDARD
TZOFFSETFROM:+0300
TZOFFSETTO:+0200
TZNAME:EET
DTSTART:20241027T010000
END:STANDARD
END:VTIMEZONE
BEGIN:VEVENT
DTSTART;TZID=Europe/Bucharest:20230804T180000
DTEND;TZID=Europe/Bucharest:20230804T210000
DTSTAMP:20260422T154600
CREATED:20230717T135230Z
LAST-MODIFIED:20230731T115757Z
UID:734066-1691172000-1691182800@bhaktimarga.ro
SUMMARY:Mahalakshmi painting meditation
DESCRIPTION:Maha Lakshmi este cunoscută ca zeița bogăției\, norocului\, puterii\, frumuseții\, fertilității și prosperității. Ea reprezinta de asemenea si Gratia directa a Lui Dumnezeu\, sufletele prinse de existența lumească apelează la mila Ei și prin aceasta câștigă Gratia Lui. Prin urmare\, ea este cunoscută drept Mama Universului. \nHaideti sa ne conectam impreuna prin pictura cu Mama Divina!
URL:https://bhaktimarga.ro/eveniment/mahalakshmi-painting-meditation/
LOCATION:Centrul Bhakti Marga\, Sibiu\, Calea Cisnadie 50\, etaj 2\, Sibiu\, Sibiu\, Romania
CATEGORIES:Arte Devoționale
ATTACH;FMTTYPE=image/jpeg:https://bhaktimarga.ro/wp-content/uploads/2023/07/photo_2023-07-31_13-54-26.jpg
ORGANIZER;CN="Sarvadeva Namaskrita Dasi":MAILTO:sarvadeva_namaskrita_dasi@bhaktimarga.ro
END:VEVENT
END:VCALENDAR