BEGIN:VCALENDAR
VERSION:2.0
PRODID:-//Bhakti Marga Romania - ECPv6.15.20//NONSGML v1.0//EN
CALSCALE:GREGORIAN
METHOD:PUBLISH
X-WR-CALNAME:Bhakti Marga Romania
X-ORIGINAL-URL:https://bhaktimarga.ro
X-WR-CALDESC:Evenimente pentru Bhakti Marga Romania
REFRESH-INTERVAL;VALUE=DURATION:PT1H
X-Robots-Tag:noindex
X-PUBLISHED-TTL:PT1H
BEGIN:VTIMEZONE
TZID:Europe/Bucharest
BEGIN:DAYLIGHT
TZOFFSETFROM:+0200
TZOFFSETTO:+0300
TZNAME:EEST
DTSTART:20240331T010000
END:DAYLIGHT
BEGIN:STANDARD
TZOFFSETFROM:+0300
TZOFFSETTO:+0200
TZNAME:EET
DTSTART:20241027T010000
END:STANDARD
BEGIN:DAYLIGHT
TZOFFSETFROM:+0200
TZOFFSETTO:+0300
TZNAME:EEST
DTSTART:20250330T010000
END:DAYLIGHT
BEGIN:STANDARD
TZOFFSETFROM:+0300
TZOFFSETTO:+0200
TZNAME:EET
DTSTART:20251026T010000
END:STANDARD
BEGIN:DAYLIGHT
TZOFFSETFROM:+0200
TZOFFSETTO:+0300
TZNAME:EEST
DTSTART:20260329T010000
END:DAYLIGHT
BEGIN:STANDARD
TZOFFSETFROM:+0300
TZOFFSETTO:+0200
TZNAME:EET
DTSTART:20261025T010000
END:STANDARD
END:VTIMEZONE
BEGIN:VEVENT
DTSTART;TZID=Europe/Bucharest:20251024T193000
DTEND;TZID=Europe/Bucharest:20251024T210000
DTSTAMP:20260420T120640
CREATED:20251020T161609Z
LAST-MODIFIED:20251020T161609Z
UID:738547-1761334200-1761339600@bhaktimarga.ro
SUMMARY:Introducere in Bhagavad Gita\, un ghid de viață
DESCRIPTION:Te-ai întrebat vreodată: \n„Cine sunt? \nCine este Dumnezeu? \nCare este relația mea cu Dumnezeu? \nCare este scopul acestei vieți?” \nBhagavad Gita ne răspunde la aceste întrebări\, precum și la alte întrebări existențiale\, și ne învață pas cu pas cum să atingem scopul suprem. Prin comentariul Maestrului spiritual Paramahamsa Vishwananda\, care a atins realizarea Divină\, aceste învățături devin ușor de înțeles și în prezent. \nTe invităm să descoperi tainele acestei scrieri la o sesiune gratuită de cunoaștere care explorează aceste teme.
URL:https://bhaktimarga.ro/eveniment/introducere-in-bhagavad-gita-un-ghid-de-viata/
CATEGORIES:Cunoaștere
ATTACH;FMTTYPE=image/jpeg:https://bhaktimarga.ro/wp-content/uploads/2025/10/Madavi-Curs_Artboard-3-copy-7.jpg
LOCATION:https://bhaktimarga.ro/eveniment/introducere-in-bhagavad-gita-un-ghid-de-viata/
END:VEVENT
END:VCALENDAR