BEGIN:VCALENDAR
VERSION:2.0
PRODID:-//Bhakti Marga Romania - ECPv6.15.20//NONSGML v1.0//EN
CALSCALE:GREGORIAN
METHOD:PUBLISH
X-WR-CALNAME:Bhakti Marga Romania
X-ORIGINAL-URL:https://bhaktimarga.ro
X-WR-CALDESC:Evenimente pentru Bhakti Marga Romania
REFRESH-INTERVAL;VALUE=DURATION:PT1H
X-Robots-Tag:noindex
X-PUBLISHED-TTL:PT1H
BEGIN:VTIMEZONE
TZID:Europe/Bucharest
BEGIN:DAYLIGHT
TZOFFSETFROM:+0200
TZOFFSETTO:+0300
TZNAME:EEST
DTSTART:20240331T010000
END:DAYLIGHT
BEGIN:STANDARD
TZOFFSETFROM:+0300
TZOFFSETTO:+0200
TZNAME:EET
DTSTART:20241027T010000
END:STANDARD
BEGIN:DAYLIGHT
TZOFFSETFROM:+0200
TZOFFSETTO:+0300
TZNAME:EEST
DTSTART:20250330T010000
END:DAYLIGHT
BEGIN:STANDARD
TZOFFSETFROM:+0300
TZOFFSETTO:+0200
TZNAME:EET
DTSTART:20251026T010000
END:STANDARD
BEGIN:DAYLIGHT
TZOFFSETFROM:+0200
TZOFFSETTO:+0300
TZNAME:EEST
DTSTART:20260329T010000
END:DAYLIGHT
BEGIN:STANDARD
TZOFFSETFROM:+0300
TZOFFSETTO:+0200
TZNAME:EET
DTSTART:20261025T010000
END:STANDARD
END:VTIMEZONE
BEGIN:VEVENT
DTSTART;TZID=Europe/Bucharest:20250328T170000
DTEND;TZID=Europe/Bucharest:20250328T200000
DTSTAMP:20260425T185044
CREATED:20250312T175119Z
LAST-MODIFIED:20250421T160328Z
UID:736610-1743181200-1743192000@bhaktimarga.ro
SUMMARY:Curs: Sri Yantra meditation nivel 1 - 28 Martie - Sibiu
DESCRIPTION:Liniștește-ți mintea și începe călătoria către Divinul din inima ta. \nSri Yantra este mult mai mult decât o simplă formă geometrică – este un instrument energetic sacru\, menit să te sprijine în evoluția ta spirituală. Dintre toate yantrele\, Sri Yantra este considerată cea mai veche și cea mai puternică\, având un impact profund asupra celor care o desenează sau meditează asupra ei. \nAceastă formă sacră o reprezintă pe însăși Mama Divină\, iar triunghiurile sale simbolizează uniunea energiilor creatoare masculine și feminine\, energii care sunt\, de asemenea\, prezente în fiecare dintre noi. Meditând asupra Sri Yantrei\, vei experimenta o conectare adâncă cu centrul tău divin. \nTe invităm la un atelier simplu\, dar extrem de puternic\, în care te vei conecta cu Divinul din inima ta\, explorând cunoașterea adâncă a acestui simbol sacru. Fă primul pas într-o călătorie interioară de descoperire și transformare! \nVino alături de noi și pornește pe calea cunoașterii de sine ! 🌿
URL:https://bhaktimarga.ro/eveniment/curs-sri-yantra-meditation-nivel-1-28-martie-sibiu/
LOCATION:Centrul Bhakti Marga\, Sibiu\, Calea Cisnadie 50\, etaj 2\, Sibiu\, Sibiu\, Romania
CATEGORIES:Arte Devoționale,Sri Yantra
ATTACH;FMTTYPE=image/jpeg:https://bhaktimarga.ro/wp-content/uploads/2025/03/IMG_20250312_194907_909.jpg
ORGANIZER;CN="Sarvadeva Namaskrita Dasi":MAILTO:sarvadeva_namaskrita_dasi@bhaktimarga.ro
END:VEVENT
END:VCALENDAR