BEGIN:VCALENDAR
VERSION:2.0
PRODID:-//Bhakti Marga Romania - ECPv6.15.16//NONSGML v1.0//EN
CALSCALE:GREGORIAN
METHOD:PUBLISH
X-WR-CALNAME:Bhakti Marga Romania
X-ORIGINAL-URL:https://bhaktimarga.ro
X-WR-CALDESC:Evenimente pentru Bhakti Marga Romania
REFRESH-INTERVAL;VALUE=DURATION:PT1H
X-Robots-Tag:noindex
X-PUBLISHED-TTL:PT1H
BEGIN:VTIMEZONE
TZID:Europe/Bucharest
BEGIN:DAYLIGHT
TZOFFSETFROM:+0200
TZOFFSETTO:+0300
TZNAME:EEST
DTSTART:20230326T010000
END:DAYLIGHT
BEGIN:STANDARD
TZOFFSETFROM:+0300
TZOFFSETTO:+0200
TZNAME:EET
DTSTART:20231029T010000
END:STANDARD
BEGIN:DAYLIGHT
TZOFFSETFROM:+0200
TZOFFSETTO:+0300
TZNAME:EEST
DTSTART:20240331T010000
END:DAYLIGHT
BEGIN:STANDARD
TZOFFSETFROM:+0300
TZOFFSETTO:+0200
TZNAME:EET
DTSTART:20241027T010000
END:STANDARD
BEGIN:DAYLIGHT
TZOFFSETFROM:+0200
TZOFFSETTO:+0300
TZNAME:EEST
DTSTART:20250330T010000
END:DAYLIGHT
BEGIN:STANDARD
TZOFFSETFROM:+0300
TZOFFSETTO:+0200
TZNAME:EET
DTSTART:20251026T010000
END:STANDARD
END:VTIMEZONE
BEGIN:VEVENT
DTSTART;TZID=Europe/Bucharest:20240316T133000
DTEND;TZID=Europe/Bucharest:20240316T153000
DTSTAMP:20260215T235222
CREATED:20240315T161208Z
LAST-MODIFIED:20240315T161208Z
UID:734925-1710595800-1710603000@bhaktimarga.ro
SUMMARY:Curs Puja Simpla - Martie 2024
DESCRIPTION:Pe parcursul acestui curs veți primi instrumentele necesare pentru a începe să vă construiți o relație personală cu divinitatea pe care ați ales-o. \nVom parcurge informații generale despre originea\, scopul și beneficiile acestui frumos ritual. Structura\, cerințele și procedura vor fi explicate clar fiecărui participant. În plus\, veți primi o scurtă și simplă introducere în sanscrită și vom practica împreună toate mantrele necesare pentru puja.
URL:https://bhaktimarga.ro/eveniment/curs-puja-simpla-martie-2024/
CATEGORIES:Ritualuri
END:VEVENT
END:VCALENDAR