BEGIN:VCALENDAR
VERSION:2.0
PRODID:-//Bhakti Marga Romania - ECPv6.15.20//NONSGML v1.0//EN
CALSCALE:GREGORIAN
METHOD:PUBLISH
X-WR-CALNAME:Bhakti Marga Romania
X-ORIGINAL-URL:https://bhaktimarga.ro
X-WR-CALDESC:Evenimente pentru Bhakti Marga Romania
REFRESH-INTERVAL;VALUE=DURATION:PT1H
X-Robots-Tag:noindex
X-PUBLISHED-TTL:PT1H
BEGIN:VTIMEZONE
TZID:Europe/Bucharest
BEGIN:DAYLIGHT
TZOFFSETFROM:+0200
TZOFFSETTO:+0300
TZNAME:EEST
DTSTART:20240331T010000
END:DAYLIGHT
BEGIN:STANDARD
TZOFFSETFROM:+0300
TZOFFSETTO:+0200
TZNAME:EET
DTSTART:20241027T010000
END:STANDARD
BEGIN:DAYLIGHT
TZOFFSETFROM:+0200
TZOFFSETTO:+0300
TZNAME:EEST
DTSTART:20250330T010000
END:DAYLIGHT
BEGIN:STANDARD
TZOFFSETFROM:+0300
TZOFFSETTO:+0200
TZNAME:EET
DTSTART:20251026T010000
END:STANDARD
BEGIN:DAYLIGHT
TZOFFSETFROM:+0200
TZOFFSETTO:+0300
TZNAME:EEST
DTSTART:20260329T010000
END:DAYLIGHT
BEGIN:STANDARD
TZOFFSETFROM:+0300
TZOFFSETTO:+0200
TZNAME:EET
DTSTART:20261025T010000
END:STANDARD
END:VTIMEZONE
BEGIN:VEVENT
DTSTART;TZID=Europe/Bucharest:20250725T200000
DTEND;TZID=Europe/Bucharest:20250725T213000
DTSTAMP:20260425T183130
CREATED:20250717T112330Z
LAST-MODIFIED:20250717T113437Z
UID:10001346-1753473600-1753479000@bhaktimarga.ro
SUMMARY:Curs de devoți - Iulie - Septembrie 2025
DESCRIPTION:Te invităm să participi la un curs gratuit în 8 sesiuni\, dedicat celor care vor să pătrundă în înțelepciunea vedică și să descopere fundamentele hinduismului și ale căii Hari Bhakta Sampradaya\, calea iubitorilor de Dumnezeu. \nCursul este deschis atât celor care doresc să devină devoți\, cât și celor interesați să înțeleagă mai profund această tradiție spirituală unică\, cu rădăcini milenare. \n🔥 Cursul este GRATUIT \nVom explora împreună concepte esențiale din tradiția hindusă\, filozofie\, scripturi\, calea bhakti și rolul spiritual al Maestrului. Este o oportunitate de a-ți aprofunda înțelegerea despre tine și despre Divinitate\, alături de o comunitate dedicată. \n👉 Pentru informații și noutăți despre curs\, te poți alătura grupului de telegram: \nKnowledge Bhakti Marga Romania (https://t.me/+c0BK9CdsF5xmNzc0) \nTe așteptăm cu bucurie să începi această călătorie spre adevăr și iubire divină!
URL:https://bhaktimarga.ro/eveniment/curs-de-devoti-iulie-septembrie-2025/2025-07-25/
CATEGORIES:Cunoaștere
ATTACH;FMTTYPE=image/png:https://bhaktimarga.ro/wp-content/uploads/2025/07/curs-de-devoti.png
ORGANIZER;CN="Vrindavana Ishvara Dasi":MAILTO:vrindavana@bhaktimarga.ro
LOCATION:https://us06web.zoom.us/j/82613440835
END:VEVENT
END:VCALENDAR