BEGIN:VCALENDAR
VERSION:2.0
PRODID:-//Bhakti Marga Romania - ECPv6.15.20//NONSGML v1.0//EN
CALSCALE:GREGORIAN
METHOD:PUBLISH
X-WR-CALNAME:Bhakti Marga Romania
X-ORIGINAL-URL:https://bhaktimarga.ro
X-WR-CALDESC:Evenimente pentru Bhakti Marga Romania
REFRESH-INTERVAL;VALUE=DURATION:PT1H
X-Robots-Tag:noindex
X-PUBLISHED-TTL:PT1H
BEGIN:VTIMEZONE
TZID:Europe/Bucharest
BEGIN:DAYLIGHT
TZOFFSETFROM:+0200
TZOFFSETTO:+0300
TZNAME:EEST
DTSTART:20230326T010000
END:DAYLIGHT
BEGIN:STANDARD
TZOFFSETFROM:+0300
TZOFFSETTO:+0200
TZNAME:EET
DTSTART:20231029T010000
END:STANDARD
BEGIN:DAYLIGHT
TZOFFSETFROM:+0200
TZOFFSETTO:+0300
TZNAME:EEST
DTSTART:20240331T010000
END:DAYLIGHT
BEGIN:STANDARD
TZOFFSETFROM:+0300
TZOFFSETTO:+0200
TZNAME:EET
DTSTART:20241027T010000
END:STANDARD
BEGIN:DAYLIGHT
TZOFFSETFROM:+0200
TZOFFSETTO:+0300
TZNAME:EEST
DTSTART:20250330T010000
END:DAYLIGHT
BEGIN:STANDARD
TZOFFSETFROM:+0300
TZOFFSETTO:+0200
TZNAME:EET
DTSTART:20251026T010000
END:STANDARD
END:VTIMEZONE
BEGIN:VEVENT
DTSTART;TZID=Europe/Bucharest:20240713T110000
DTEND;TZID=Europe/Bucharest:20240714T180000
DTSTAMP:20260421T132005
CREATED:20240629T170722Z
LAST-MODIFIED:20240629T170821Z
UID:735673-1720868400-1720980000@bhaktimarga.ro
SUMMARY:Curs Atma Kriya Yoga - Studio Sangha - București - Iulie 2024
DESCRIPTION:Atma Kriya Yoga este o disciplină care însumează o serie de tehnici meditative\, combinate cu tehnici respiratorii și posturi fizice simple\, ce împreună alcătuiesc un instrument foarte eficient de deschidere a inimii\nspre puterea transformatoare a IUBIRII. \nPrin Grația lui Mahavatar Babaji și a lui Paramahamsa Vishwananda\, prin Shaktipat\, străvechea inițiere readusă de Ei în contemporaneitate\, este descătușat uriașul potențial al acestor tehnici foarte avansate\, astfel încât puteți avansa rapid spre obținerea libertății pe calea spirituală prin deplina Realizare de Sine și în final\, Realizarea lui Dumnezeu.
URL:https://bhaktimarga.ro/eveniment/curs-atma-kriya-yoga-studio-sangha-bucuresti-iulie-2024/
LOCATION:Studio Sangha\, Studio Sangha\, Bucuresti\, Romania
CATEGORIES:Yoga & Meditație
ATTACH;FMTTYPE=image/jpeg:https://bhaktimarga.ro/wp-content/uploads/2024/06/AKY-2024-Mada.jpg
GEO:44.3710007;26.139685
X-APPLE-STRUCTURED-LOCATION;VALUE=URI;X-ADDRESS=Studio Sangha Studio Sangha Bucuresti Romania;X-APPLE-RADIUS=500;X-TITLE=Studio Sangha:geo:26.139685,44.3710007
END:VEVENT
END:VCALENDAR